BEGIN:VCALENDAR
VERSION:2.0
PRODID:-//Svenska Boxningsförbundet - ECPv6.15.20//NONSGML v1.0//EN
CALSCALE:GREGORIAN
METHOD:PUBLISH
X-ORIGINAL-URL:https://swebox.se
X-WR-CALDESC:Händelser för Svenska Boxningsförbundet
REFRESH-INTERVAL;VALUE=DURATION:PT1H
X-Robots-Tag:noindex
X-PUBLISHED-TTL:PT1H
BEGIN:VTIMEZONE
TZID:Europe/Stockholm
BEGIN:DAYLIGHT
TZOFFSETFROM:+0100
TZOFFSETTO:+0200
TZNAME:CEST
DTSTART:20250330T010000
END:DAYLIGHT
BEGIN:STANDARD
TZOFFSETFROM:+0200
TZOFFSETTO:+0100
TZNAME:CET
DTSTART:20251026T010000
END:STANDARD
BEGIN:DAYLIGHT
TZOFFSETFROM:+0100
TZOFFSETTO:+0200
TZNAME:CEST
DTSTART:20260329T010000
END:DAYLIGHT
BEGIN:STANDARD
TZOFFSETFROM:+0200
TZOFFSETTO:+0100
TZNAME:CET
DTSTART:20261025T010000
END:STANDARD
BEGIN:DAYLIGHT
TZOFFSETFROM:+0100
TZOFFSETTO:+0200
TZNAME:CEST
DTSTART:20270328T010000
END:DAYLIGHT
BEGIN:STANDARD
TZOFFSETFROM:+0200
TZOFFSETTO:+0100
TZNAME:CET
DTSTART:20271031T010000
END:STANDARD
END:VTIMEZONE
BEGIN:VEVENT
DTSTART;VALUE=DATE:20260523
DTEND;VALUE=DATE:20260524
DTSTAMP:20260420T031928
CREATED:20260320T212457Z
LAST-MODIFIED:20260419T190831Z
UID:10000222-1779494400-1779580799@swebox.se
SUMMARY:MATCH- och DIPLOMTÄVLING - Jubileumsgala BK Revansch 25 år
DESCRIPTION:Arrangerande förening: BK Revansch\nTävlingsplats: Slottslängorna i Sölvesborg\, Slottsallén\, Sölvesborg\nTävlingsledare: Felix Lundström\, 072-333 96 64 el. e-post bkrevansch6@gmail.com \nTävlingstillstånd för match- och diplomboxning beviljat
URL:https://swebox.se/event/match-och-diplomtavling-jubileumsgala-bk-revansch-25-ar/
LOCATION:Sölvesborg
END:VEVENT
BEGIN:VEVENT
DTSTART;VALUE=DATE:20260523
DTEND;VALUE=DATE:20260524
DTSTAMP:20260420T031928
CREATED:20260324T131002Z
LAST-MODIFIED:20260419T190831Z
UID:10000225-1779494400-1779580799@swebox.se
SUMMARY:MATCH- och DIPLOMTÄVLING - Uppsala Boxningsgala
DESCRIPTION:Arrangerande förening: Gottsunda Boxningsklubb\nTävlingsplats: Pins and Games Uppsala\, Rapsgatan 8B\, Uppsala\nTävlingsledare: Niklas Jansson\, 0730-55 99 18 el. e-post gottsundabk2023@outlook.com \nTävlingstillstånd för match- och diplomboxning beviljat
URL:https://swebox.se/event/match-och-diplomtavling-uppsala-boxningsgala/
LOCATION:Uppsala
END:VEVENT
BEGIN:VEVENT
DTSTART;VALUE=DATE:20260530
DTEND;VALUE=DATE:20260531
DTSTAMP:20260420T031928
CREATED:20251120T195416Z
LAST-MODIFIED:20260419T190831Z
UID:10000152-1780099200-1780185599@swebox.se
SUMMARY:MATCH- och DIPLOMTÄVLING - Boxning under Bron
DESCRIPTION:Arrangerande förening: Stockholms Arbetares IF\nTävlingsplats: Under St Eriksbron mellan Norrbackagatan 2 och Atlasmuren 18\, Stockholm\nTävlingsledare: Jimmy Björketidt\, 076-007 81 00 el. e-post jimmy.bjorketidt@gmail.com \nTävlingstilstånd för match- och diplomboxning beviljat
URL:https://swebox.se/event/match-och-diplomtavling-boxning-under-bron/
LOCATION:Stockholm
END:VEVENT
BEGIN:VEVENT
DTSTART;VALUE=DATE:20260530
DTEND;VALUE=DATE:20260531
DTSTAMP:20260420T031928
CREATED:20260203T131253Z
LAST-MODIFIED:20260419T190831Z
UID:10000200-1780099200-1780185599@swebox.se
SUMMARY:DIPLOMTÄVLING - Östsvenska Nicopiaserien
DESCRIPTION:Arrangerande förening: Katrineholms BK och ÖBF\nTävlingsplats: Katrineholms BK lokaler\, Duveholmshallen\, Västgötagatan 31\, Katrineholm\nTävlingsledare: Jonas Hjelm\, 0733-61 33 14 el. e-post jonas@nbkakilles.se\nTävlingstillstånd för diplomboxning beviljat
URL:https://swebox.se/event/diplomtavling-ostsvenska-nicopiaserien-4/
LOCATION:Katrineholm
END:VEVENT
BEGIN:VEVENT
DTSTART;VALUE=DATE:20260530
DTEND;VALUE=DATE:20260531
DTSTAMP:20260420T031928
CREATED:20260324T131017Z
LAST-MODIFIED:20260419T190831Z
UID:10000226-1780099200-1780185599@swebox.se
SUMMARY:MATCH- och DIPLOMTÄVLING  Distriktskamp Sydsverige vs Småland-Halland
DESCRIPTION:Arrangerande förening: Sydsvenska Boxningsförbundet\nTävlingsplats: Trelleborgs BA BCs lokal\, Engelbrektsgatan 45\, Trelleborg\nTävlingsledare: Nader Kiswani\, 070-490 53 69 el. e-post nader@kiswani.se \nTävlingstillstånd för match- och diplomboxning beviljat
URL:https://swebox.se/event/match-och-diplomtavling-distriktskamp-sydsverige-vs-smaland-halland/
LOCATION:Trelleborg
END:VEVENT
BEGIN:VEVENT
DTSTART;VALUE=DATE:20260613
DTEND;VALUE=DATE:20260615
DTSTAMP:20260420T031928
CREATED:20260320T212458Z
LAST-MODIFIED:20260419T190831Z
UID:10000223-1781308800-1781481599@swebox.se
SUMMARY:UTBILDNING  - Tränarutbildning Steg 2
DESCRIPTION:Arrangerande förening: Stockholm-Gotland BF och Hammarby IF Boxning \nPlats: Hammarby IF Boxning lokaler i Skarpnäck\, Skarpnäcks gårdsväg 8E \nLokal kontaktperson: Joel Grandell \nLänk till anmälan till utbildningen – https://educationwebregistration.idrottonline.se/home/index/2218714 \nKontakt på SBF: Patrik Bengtsson\, 08-699 60 03 el. e-post patrik@swebox.se  \nKostnad för utbildning: 1400 kr/person \nUtbildare: Daniel Nash och Joel Grandell
URL:https://swebox.se/event/utbildning-tranarutbildning-steg-2-7/
LOCATION:Stockholm
END:VEVENT
BEGIN:VEVENT
DTSTART;VALUE=DATE:20260912
DTEND;VALUE=DATE:20260914
DTSTAMP:20260420T031928
CREATED:20260324T131017Z
LAST-MODIFIED:20260419T190831Z
UID:10000227-1789171200-1789343999@swebox.se
SUMMARY:MATCH- och DIPLOMTÄVLING - Sydsvenska Öppna Mästerskapen
DESCRIPTION:Arrangerande förening: Sydsvenska Boxningsförbundet och Höganäs BK\nTävlingsplats: Höganäs BKs lokal\, Friluftsvägen 10\, Höganäs\nTävlingsledare: Nader Kiswani\, 0704-90 53 69 el. e-post nader@kiswani.se \nTävlingstillstånd för match- och diplomboxning beviljat
URL:https://swebox.se/event/match-och-diplomtavling-sydsvenska-oppna-masterskapen-2/
LOCATION:Höganäs
END:VEVENT
BEGIN:VEVENT
DTSTART;VALUE=DATE:20260918
DTEND;VALUE=DATE:20260921
DTSTAMP:20260420T031928
CREATED:20260119T164309Z
LAST-MODIFIED:20260419T190831Z
UID:10000189-1789689600-1789948799@swebox.se
SUMMARY:MATCH- och DIPLOMTÄVLING - Diamond Ring Boxing
DESCRIPTION:Arrangerande förening: Team Kebbeh Alingsås BK\nTävlingsplats: Nolhagahallen\, Nolhagagatan 12\, Alingsås\nTävlingsledare: Tijan Kebbeh\, 073-700 35 09 el. e-post tijankebbehh@gmail.com\nTävlingstillstånd för match- och diplomboxning beviljat
URL:https://swebox.se/event/match-och-diplomtavling-diamond-ring-boxing/
LOCATION:Alingsås
END:VEVENT
BEGIN:VEVENT
DTSTART;VALUE=DATE:20261003
DTEND;VALUE=DATE:20261004
DTSTAMP:20260420T031928
CREATED:20260408T163838Z
LAST-MODIFIED:20260419T190845Z
UID:10000233-1790985600-1791071999@swebox.se
SUMMARY:MATCH- och DIPLOMTÄVLING - GBK 50-årsjubileum
DESCRIPTION:Arrangerande förening: Guldstadens BK\nTävlingsplats: Guldstadens BKs lokaler\, Eddahallen\, Norrvallagatan 1\, Skellefteå\nTävlingsledare: Camilla Molin\, 070-335 27 32 el. e-post camillamolin@live.se\nTävlingstillstånd för match- och diplomboxning beviljat
URL:https://swebox.se/event/match-och-diplomtavling-gbk-50-arsjubileum/
LOCATION:Skellefteå
END:VEVENT
BEGIN:VEVENT
DTSTART;VALUE=DATE:20261003
DTEND;VALUE=DATE:20261004
DTSTAMP:20260420T031928
CREATED:20260408T163838Z
LAST-MODIFIED:20260419T190831Z
UID:10000234-1790985600-1791071999@swebox.se
SUMMARY:MATCH- och DIPLOMTÄVLING - Labbås Rallarsving
DESCRIPTION:Arrangerande förening: Tidaholms Boxningsklubb\nTävlingsplats: Tidaholms BKs lokaler\, Forshallen\, Forsgatan 7\, Tidaholm\nTävlingsledare: Patrik Eliasson\, 073-824 81 50 el. e-post patrikkkkk45@telia.com \nTävlingstillstånd för match- och diplomboxning beviljat
URL:https://swebox.se/event/match-och-diplomtavling-labbas-rallarsving/
LOCATION:Tidaholm
END:VEVENT
BEGIN:VEVENT
DTSTART;VALUE=DATE:20261030
DTEND;VALUE=DATE:20261102
DTSTAMP:20260420T031928
CREATED:20260324T131018Z
LAST-MODIFIED:20260419T190845Z
UID:10000228-1793318400-1793577599@swebox.se
SUMMARY:MATCH- och DIPLOMTÄVLING - King of the Ring
DESCRIPTION:Arrangerande förening: Boxningsklubben Rebell\nTävlingsplats: Boråshallen\, Bockasjögatan 2\, Borås\nTävlingsledare: Raymond Husac\, 073-594 54 11 el. e-post ray@teamgolden.se \nTävlingstillstånd för match- och diplomboxning beviljat
URL:https://swebox.se/event/match-och-diplomtavling-king-of-the-ring-2/
LOCATION:Borås
END:VEVENT
END:VCALENDAR