BEGIN:VCALENDAR
VERSION:2.0
PRODID:-//Svenska Boxningsförbundet - ECPv6.15.20//NONSGML v1.0//EN
CALSCALE:GREGORIAN
METHOD:PUBLISH
X-WR-CALNAME:Svenska Boxningsförbundet
X-ORIGINAL-URL:https://swebox.se
X-WR-CALDESC:Händelser för Svenska Boxningsförbundet
REFRESH-INTERVAL;VALUE=DURATION:PT1H
X-Robots-Tag:noindex
X-PUBLISHED-TTL:PT1H
BEGIN:VTIMEZONE
TZID:Europe/Stockholm
BEGIN:DAYLIGHT
TZOFFSETFROM:+0100
TZOFFSETTO:+0200
TZNAME:CEST
DTSTART:20250330T010000
END:DAYLIGHT
BEGIN:STANDARD
TZOFFSETFROM:+0200
TZOFFSETTO:+0100
TZNAME:CET
DTSTART:20251026T010000
END:STANDARD
BEGIN:DAYLIGHT
TZOFFSETFROM:+0100
TZOFFSETTO:+0200
TZNAME:CEST
DTSTART:20260329T010000
END:DAYLIGHT
BEGIN:STANDARD
TZOFFSETFROM:+0200
TZOFFSETTO:+0100
TZNAME:CET
DTSTART:20261025T010000
END:STANDARD
BEGIN:DAYLIGHT
TZOFFSETFROM:+0100
TZOFFSETTO:+0200
TZNAME:CEST
DTSTART:20270328T010000
END:DAYLIGHT
BEGIN:STANDARD
TZOFFSETFROM:+0200
TZOFFSETTO:+0100
TZNAME:CET
DTSTART:20271031T010000
END:STANDARD
END:VTIMEZONE
BEGIN:VEVENT
DTSTART;VALUE=DATE:20260130
DTEND;VALUE=DATE:20260202
DTSTAMP:20260420T072525
CREATED:20250613T145312Z
LAST-MODIFIED:20260201T123927Z
UID:10000088-1769731200-1769990399@swebox.se
SUMMARY:MATCH- och DIPLOMTÄVLING - Golden Girl Championship
DESCRIPTION:Arrangerande förening: BK Rebell\nTävlingsplats: Boråshallen\, Bockasjögatan 2\, Borås\nTävlingsledare: Raymond Husac\, 073-594 54 11 el. e-post ray@teamgolden.se \nTävlingstillstånd för match- och diplomboxning beviljat
URL:https://swebox.se/event/match-och-diplomtavling-golden-girl-championship/
LOCATION:Borås
END:VEVENT
BEGIN:VEVENT
DTSTART;VALUE=DATE:20260130
DTEND;VALUE=DATE:20260202
DTSTAMP:20260420T072525
CREATED:20260119T164239Z
LAST-MODIFIED:20260201T123927Z
UID:10000178-1769731200-1769990399@swebox.se
SUMMARY:MATCH- och DIPLOMTÄVLING - King of the Ring Round Robin
DESCRIPTION:Arrangerande förening: Boxningsklubben Rebell\nTävlingsplats: Boråshallen\, Bockasjögatan 2\, Borås\nTävlingsledare: Raymond Husac\, 073-594 54 11 el. e-post ray@teamgolden.se\nTävlingstillstånd för match- och diplomboxning beviljat
URL:https://swebox.se/event/match-och-diplomtavling-king-of-the-ring-round-robin/
LOCATION:Katrineholm
END:VEVENT
BEGIN:VEVENT
DTSTART;VALUE=DATE:20260201
DTEND;VALUE=DATE:20260202
DTSTAMP:20260420T072525
CREATED:20251225T161315Z
LAST-MODIFIED:20260201T123927Z
UID:10000171-1769904000-1769990399@swebox.se
SUMMARY:DIPLOMTÄVLING - Kellys Diplomhjältar
DESCRIPTION:Arrangerande förening:  BK Kelly \nTävlingsplats: BK Kellys lokaler\, Trefaldighetskyrkan\, Södra Strandgatan 3\, Örebro\nTävlingsledare: John Brikell\, 0735-68 06 50 el. e-post johnbrikell@hotmail.com\nTävlingstillstånd för diplomboxning beviljat
URL:https://swebox.se/event/diplomtavling-kellys-diplomhjaltar/
LOCATION:Örebro
END:VEVENT
BEGIN:VEVENT
DTSTART;VALUE=DATE:20260201
DTEND;VALUE=DATE:20260202
DTSTAMP:20260420T072525
CREATED:20260119T164239Z
LAST-MODIFIED:20260201T123927Z
UID:10000177-1769904000-1769990399@swebox.se
SUMMARY:DIPLOMTÄVLING - Diplomserien SGBF
DESCRIPTION:Arrangerande förening: Stockholm-Gotlands BF\nTävlingsplats: Hammarby IFs lokal\, Skarpnäcks gårdsväg 8E\, Skarpnäck\nTävlingsledare: Mario Sierra\, 076-256 56 95 el. e-post mario.sgbf@gmail.com\nTävlingstillstånd för diplomboxning beviljat
URL:https://swebox.se/event/diplomtavling-diplomserien-sgbf-5/
LOCATION:Stockholm
END:VEVENT
BEGIN:VEVENT
DTSTART;VALUE=DATE:20260207
DTEND;VALUE=DATE:20260208
DTSTAMP:20260420T072525
CREATED:20251127T213807Z
LAST-MODIFIED:20260207T141117Z
UID:10000163-1770422400-1770508799@swebox.se
SUMMARY:UTBILDNING - Domarutbildning ÖNBF
DESCRIPTION:Arrangör: SBF:s Domarkommitté och Övre Norrland BF \nUtbildningsplats: Idrottens Hus\, Maskinvägen 27\, Luleå \nTider: 09.00 – 16.30  \nKostnad: 700 kr \nAnmälan: Sker via följande länk https://educationwebregistration.idrottonline.se/home/index/2149988 \nVia länken finns också mer information om utbildningen \nSista anmälningsdag är den 3 februari 2026 \nKursledare: Per Engström \nFrågor om kursen kontakta Jakob Boudin\, jakob.boudin@rfsisu.se
URL:https://swebox.se/event/utbildning-domarutbildning-onbf/
LOCATION:Luleå
END:VEVENT
BEGIN:VEVENT
DTSTART;VALUE=DATE:20260207
DTEND;VALUE=DATE:20260208
DTSTAMP:20260420T072525
CREATED:20251207T233856Z
LAST-MODIFIED:20260207T141116Z
UID:10000165-1770422400-1770508799@swebox.se
SUMMARY:MATCHTÄVLING - New Boxing Generation
DESCRIPTION:Arrangerande förening: New Boxing Generation IF\nTävlingsplats: Eventcenter Mirum Galleria\, Lidaleden 8\, Norrköping\nTävlingsledare: Kabir Mehrabi\, 0704-01 75 22 el. e-post kabirmehrabi@outlook.com\nTävlingstillstånd för matchboxning beviljat
URL:https://swebox.se/event/matchtavling-new-boxing-generation/
LOCATION:Norrköping
END:VEVENT
BEGIN:VEVENT
DTSTART;VALUE=DATE:20260207
DTEND;VALUE=DATE:20260208
DTSTAMP:20260420T072525
CREATED:20260110T124148Z
LAST-MODIFIED:20260207T141116Z
UID:10000173-1770422400-1770508799@swebox.se
SUMMARY:UTBILDNING - Diplomdomarutbildning Stockholm
DESCRIPTION:Arrangör: Botkyrka BK och Stockholm-Gotland BF \nUtbildningsplats: Botkyrka BKs lokal\, Botkyrkahallen\, Brunnavägen 6\, Norsborg \nTider: 08.30 – 15.30 \nKostnad: 700 kr \nAnmälan: Sker via följande länk https://educationwebregistration.idrottonline.se/home/index/2187194 \nVia länken finns också mer information om utbildningen \nSista anmälningsdag är den 2 februari 2026 \nUtbildare: Oscar och Carina Sihlén
URL:https://swebox.se/event/utbildning-diplomdomarutbildning-stockholm/
LOCATION:Stockholm
END:VEVENT
BEGIN:VEVENT
DTSTART;VALUE=DATE:20260207
DTEND;VALUE=DATE:20260208
DTSTAMP:20260420T072525
CREATED:20260123T152444Z
LAST-MODIFIED:20260207T141117Z
UID:10000194-1770422400-1770508799@swebox.se
SUMMARY:DIPLOMTÄVLING - Top Ten Diplomserien VBF
DESCRIPTION:Arrangerande förening: IK Ymer och VBF\nTävlingsplats: Boråshallen\, Bockasjögatan 2\, Borås\nTävlingsledare: Joakim Rokka\, 0701-464 204 el. e-post joakimrokka@hotmail.com\nTävlingstillstånd för diplomboxning beviljat
URL:https://swebox.se/event/diplomtavling-top-ten-diplomserien-vbf-3/
LOCATION:Borås
END:VEVENT
BEGIN:VEVENT
DTSTART;VALUE=DATE:20260208
DTEND;VALUE=DATE:20260209
DTSTAMP:20260420T072525
CREATED:20260119T164239Z
LAST-MODIFIED:20260208T142325Z
UID:10000179-1770508800-1770595199@swebox.se
SUMMARY:DIPLOMTÄVLING - Diplomserien SGBF
DESCRIPTION:Arrangerande förening: Stockholm-Gotlands BF\nTävlingsplats: Botkyrka BKs lokal\, Botkyrkahallen\, Brunnavägen 6\, Botkyrka\nTävlingsledare: Mario Sierra\, 076-256 56 95 el. e-post mario.sgbf@gmail.com\nTävlingstillstånd för diplomboxning beviljat
URL:https://swebox.se/event/diplomtavling-diplomserien-sgbf-6/
LOCATION:Stockholm
END:VEVENT
BEGIN:VEVENT
DTSTART;VALUE=DATE:20260214
DTEND;VALUE=DATE:20260216
DTSTAMP:20260420T072525
CREATED:20251125T211011Z
LAST-MODIFIED:20260215T160852Z
UID:10000155-1771027200-1771199999@swebox.se
SUMMARY:DIPLOMTÄVLING - Diplom-SM 2026
DESCRIPTION:Arrangerande förening: Sydsvenska BF och Höörs Kampsportcenter IF och SBF \nTävlingsplats: Höörs Bad- och idrottscentrum\, Friluftsvägen 11\, Höör \nTävlingsledare: Återkommer \nTävlingstillstånd för diplomboxning beviljat \nSe inbjudan för mer information\, ni hittar den via följande länk: Inbjudan till Diplom-SM 2026 14-15 februari i Höör – Svenska Boxningsförbundet \nAnmälan sker via boxinghost.se/event/381 \, där hittar ni också inbjudan
URL:https://swebox.se/event/diplomtavling-diplom-sm-2026/
LOCATION:Höör
END:VEVENT
BEGIN:VEVENT
DTSTART;VALUE=DATE:20260221
DTEND;VALUE=DATE:20260222
DTSTAMP:20260420T072525
CREATED:20260119T164253Z
LAST-MODIFIED:20260221T173917Z
UID:10000180-1771632000-1771718399@swebox.se
SUMMARY:MATCHTÄVLING - Ungdomslandskamp Sverige-Norge
DESCRIPTION:Arrangerande förening: Katrineholms BK och SBF\nTävlingsplats: Safiren i Katrineholm\, Drottninggatan 19\, Katrineholm\nTävlingsledare: Grace Fredriksson\, 076-560 37 05 el. e-post gkmfredriksson58@hotmail.com\nLandskampen genomförs under galan Night of Champions 4\nTävlingstillstånd för matchboxning beviljat
URL:https://swebox.se/event/matchtavling-ungdomslandskamp-sverige-norge/
LOCATION:Katrineholm
END:VEVENT
BEGIN:VEVENT
DTSTART;VALUE=DATE:20260221
DTEND;VALUE=DATE:20260222
DTSTAMP:20260420T072525
CREATED:20260119T164254Z
LAST-MODIFIED:20260221T173917Z
UID:10000183-1771632000-1771718399@swebox.se
SUMMARY:DIPLOMTÄVLING: Småland-Hallands Diplomserie
DESCRIPTION:Arrangerande förening: Ljungby BK och SHBF\nTävlingsplats: Ljungby BKs lokal\, Helsingborgsvägen 9\, Ljungby\nTävlingsledare: Per Engström\, 070-368 45 25 el. e-post perbox@hotmail.se\nTävlingstillstånd för diplomboxning beviljat
URL:https://swebox.se/event/diplomtavling-smaland-hallands-diplomserie-5/
LOCATION:Ljungby
END:VEVENT
BEGIN:VEVENT
DTSTART;VALUE=DATE:20260221
DTEND;VALUE=DATE:20260222
DTSTAMP:20260420T072525
CREATED:20260119T164254Z
LAST-MODIFIED:20260221T173917Z
UID:10000181-1771632000-1771718399@swebox.se
SUMMARY:MATCH- och DIPLOMTÄVLING - Night of Champions 4
DESCRIPTION:Arrangerande förening. Katrineholms BK\nTävlingsplats: Safiren i Katrineholm\, Drottninggatan 19\, Katrineholm\nTävlingsledare: Grace Fredriksson\, 076-560 37 05 el. e-post gkmfredriksson58@hotmail.com\nTävlingstillstånd för match- och diplomboxning beviljat
URL:https://swebox.se/event/match-och-diplomtavling-night-of-champions-4/
LOCATION:Katrineholm
END:VEVENT
BEGIN:VEVENT
DTSTART;VALUE=DATE:20260221
DTEND;VALUE=DATE:20260223
DTSTAMP:20260420T072525
CREATED:20260123T152459Z
LAST-MODIFIED:20260222T175452Z
UID:10000195-1771632000-1771804799@swebox.se
SUMMARY:UTBILDNING - Tränarutbildning Steg 2 Lund
DESCRIPTION:Arrangerande förening: Sydsvenska BF och Lunds Boxningssällskap \nPlats: Lunds BS lokaler\, Högevallsgatan 3\, Lund \nLokal kontaktperson: Karin Mattsson \nLänk till anmälan till utbildningen – https://educationwebregistration.idrottonline.se/home/index/2198755 \nKontakt på SBF: Patrik Bengtsson\, 08-699 60 03 el. e-post patrik@swebox.se  \nKostnad för utbildning: 1400 kr/person \nUtbildare: Majid Jelili
URL:https://swebox.se/event/utbildning-tranarutbildning-steg-2-lund/
LOCATION:Lund
END:VEVENT
BEGIN:VEVENT
DTSTART;VALUE=DATE:20260222
DTEND;VALUE=DATE:20260223
DTSTAMP:20260420T072525
CREATED:20260119T164254Z
LAST-MODIFIED:20260222T175452Z
UID:10000182-1771718400-1771804799@swebox.se
SUMMARY:MATCHTÄVLING - Ungdomslandskamp Karlskoga Sverige - Norge
DESCRIPTION:Arrangerande förening: BK Avance\nTävlingsplats: Karlbergshallen\, Bondevägen 36\, Karlskoga\nTävlingsledare: Kermith Fredriksson\, 076-560 37 05 el. e-post gkmfredriksson58@hotmail.com\nMatcher bestäms av landslagsledning för ungdom i samråd med Norge. \nArrangören har också tänkt några förmatcher och intresseanmälan för dessa ska ske till BK Avance mail: fam.nilsson@hotmail.se. Kontaktperson på BK Avance är Jose Nilsson\, 070-309 63 91\nTävlingstillstånd för matchboxning beviljat
URL:https://swebox.se/event/matchtavling-ungdomslandskamp-karlskoga-sverige-norge/
LOCATION:Karlskoga
END:VEVENT
BEGIN:VEVENT
DTSTART;VALUE=DATE:20260228
DTEND;VALUE=DATE:20260301
DTSTAMP:20260420T072525
CREATED:20260110T124203Z
LAST-MODIFIED:20260228T192100Z
UID:10000175-1772236800-1772323199@swebox.se
SUMMARY:DIPLOMTÄVLING - Norrlandsserien deltävling 5
DESCRIPTION:Arrangerande förening: Guldstadens Boxningsklubb\nTävlingsplats: Guldstadens BKs lokal\, Eddahallen\, Norrvallagatan 1\, Skellefteå\nTävlingsledare: Artur Asatryan\, 076-777 73 36 el. e-post artur_boxning@mail.ru\nTävlingstillstånd för diplomboxning beviljat
URL:https://swebox.se/event/diplomtavling-norrlandsserien-deltavling-5-2/
LOCATION:Skellefteå
END:VEVENT
BEGIN:VEVENT
DTSTART;VALUE=DATE:20260228
DTEND;VALUE=DATE:20260301
DTSTAMP:20260420T072525
CREATED:20260119T164254Z
LAST-MODIFIED:20260228T192100Z
UID:10000184-1772236800-1772323199@swebox.se
SUMMARY:MATCHTÄVLING - Dalaslaget
DESCRIPTION:Arrangerande förening: Boxningsklubben Masen\nTävlingsplats: Cozmoz Arena\, Engelbrektsgatan 34\, Borlänge\nTävlingsledare: Jonas Silverbacke\, 073-987 34 12 el. e-post svens.h@hotmail.com\nTävlingstillstånd för matchboxning beviljat
URL:https://swebox.se/event/matchtavling-dalaslaget-2/
LOCATION:Borlänge
END:VEVENT
BEGIN:VEVENT
DTSTART;VALUE=DATE:20260228
DTEND;VALUE=DATE:20260301
DTSTAMP:20260420T072525
CREATED:20260119T164309Z
LAST-MODIFIED:20260228T192100Z
UID:10000185-1772236800-1772323199@swebox.se
SUMMARY:MATCH- och DIPLOMTÄVLING - Linnea Box Open
DESCRIPTION:Arrangerande förening: IF Linnea\nTävlingsplats: IF Linneas lokal\, Erstagatan 22\, Stockholm\nTävlingsledare: Daniel Gallo\, 073-772 39 92 el. e-post daniel.gallo@hotmail.se\nTävlingstillstånd för match- och diplomboxning beviljat
URL:https://swebox.se/event/match-och-diplomtavling-linnea-box-open/
LOCATION:Stockholm
END:VEVENT
BEGIN:VEVENT
DTSTART;VALUE=DATE:20260228
DTEND;VALUE=DATE:20260301
DTSTAMP:20260420T072525
CREATED:20260203T131222Z
LAST-MODIFIED:20260228T192100Z
UID:10000197-1772236800-1772323199@swebox.se
SUMMARY:DIPLOMTÄVLING - Östsvenska Nicopiaserien
DESCRIPTION:Arrangerande förening: BK Dacke och ÖBF\nTävlingsplats: BK Dackes lokaler\, Kungsvägen 39\, Mjölby\nTävlingsledare: Jonas Hjelm\, 0733-61 33 14 el. e-post jonas@nbkakilles.se\nTävlingstillstånd för diplomboxning beviljat
URL:https://swebox.se/event/diplomtavling-ostsvenska-nicopiaserien/
LOCATION:Mjölby
END:VEVENT
BEGIN:VEVENT
DTSTART;VALUE=DATE:20260228
DTEND;VALUE=DATE:20260301
DTSTAMP:20260420T072525
CREATED:20260205T134226Z
LAST-MODIFIED:20260228T192100Z
UID:10000203-1772236800-1772323199@swebox.se
SUMMARY:MATCH- och DIPLOMTÄVLING - Sugar Rays 22
DESCRIPTION:Arrangerande förening: Skene Atletklubb\nTävlingsplats: Ängshallen\, Marbogatan 9\, Skene\nTävlingsledare: Raymond Husac\, 073-594 54 11 el. e-post ray@teamgolden.se\nTävlingstillstånd för match- och diplomboxning beviljat
URL:https://swebox.se/event/match-och-diplomtavling-sugar-rays-22/
LOCATION:Skene
END:VEVENT
BEGIN:VEVENT
DTSTART;VALUE=DATE:20260301
DTEND;VALUE=DATE:20260302
DTSTAMP:20260420T072525
CREATED:20260110T124149Z
LAST-MODIFIED:20260301T193553Z
UID:10000174-1772323200-1772409599@swebox.se
SUMMARY:DIPLOMTÄVLING - Upplandsserien diplomboxning deltävling 2
DESCRIPTION:Arrangerande förening: Knivsta Boxningsklubb\nTävlingsplats: Knivsta BKs lokal\, Valloxvägen 2C\, Knivsta\nTävlingsledare: Eric Wall\, 073-687 53 34 el. e-post knivstaboxningsklubb@gmail.com\nTävlingstillstånd för diplomboxning beviljat
URL:https://swebox.se/event/diplomtavling-upplandsserien-diplomboxning-deltavling-2/
LOCATION:Knivsta
END:VEVENT
BEGIN:VEVENT
DTSTART;VALUE=DATE:20260301
DTEND;VALUE=DATE:20260302
DTSTAMP:20260420T072525
CREATED:20260204T132819Z
LAST-MODIFIED:20260301T193553Z
UID:10000201-1772323200-1772409599@swebox.se
SUMMARY:DIPLOMTÄVLING - Värmland-Närkes Diplomserie
DESCRIPTION:Arrangerande förening: BK Kelly och VNBF\nTävlingsplats: BK Kellys lokal\, Trefaldighetskyrkan\, Södra strandgatan 3\, Örebro\nTävlingsledare: Linda Broman\, 070-772 00 26 el. e-post linda@broman.tv och Ulf Olsson\, 070-526 05 90 \nTävlingstillstånd för diplomboxning beviljat
URL:https://swebox.se/event/diplomtavling-varmland-narkes-diplomserie-5/
LOCATION:Örebro
END:VEVENT
BEGIN:VEVENT
DTSTART;VALUE=DATE:20260314
DTEND;VALUE=DATE:20260315
DTSTAMP:20260420T072525
CREATED:20251225T161331Z
LAST-MODIFIED:20260314T222515Z
UID:10000172-1773446400-1773532799@swebox.se
SUMMARY:MATCHTÄVLING - RBK Gala
DESCRIPTION:Arrangerande förening: Redbergslids Boxningsklubb\nTävlingsplats: RBKs klubblokal\, Nya Ullevi\, Hugo Levins plats\, Göteborg\nTävlingsledare: Kabir Mehrabi\, 0704-01 75 22\nTävlingstillstånd för matchboxning beviljat
URL:https://swebox.se/event/matchtavling-rbk-gala/
LOCATION:Göteborg
END:VEVENT
BEGIN:VEVENT
DTSTART;VALUE=DATE:20260314
DTEND;VALUE=DATE:20260316
DTSTAMP:20260420T072525
CREATED:20260119T164309Z
LAST-MODIFIED:20260315T223807Z
UID:10000187-1773446400-1773619199@swebox.se
SUMMARY:DIPLOMTÄVLING - Norrländska Diplommästerskapen 2026
DESCRIPTION:Arrangerande förening: Allmänna Grapplingsällskapet \nTävlingsplats: Luleå Energi Arena\, Bastugatan 6\, Luleå\nTävlingsledare: Torbjörn Nilsson\, 070-547 70 51 el. e-post northpaw.ags@gmail.com \nTävlingstillstånd för diplomboxning beviljat
URL:https://swebox.se/event/diplomtavling-norrlandska-diplommasterskapen-2026/
LOCATION:Luleå
END:VEVENT
BEGIN:VEVENT
DTSTART;VALUE=DATE:20260314
DTEND;VALUE=DATE:20260316
DTSTAMP:20260420T072525
CREATED:20260119T164309Z
LAST-MODIFIED:20260315T223807Z
UID:10000188-1773446400-1773619199@swebox.se
SUMMARY:MATCH- och DIPLOMTÄVLING - Internationell Round Robin - INSTÄLLD!
DESCRIPTION:Arrangerande förening: BK Kelly\, Bålsta BK och IF Linnéa\nTävlingsplats: Trefaldighetskyrkan i Örebro (BK Kellys lokal)\, Södra Strandgatan 3\, Örebro\nTävlingsledare: John Brikell\, 073-568 06 50 el. e-post johnbrikell@hotmail.com\nTävlingstillstånd för match- och diplomboxning beviljat
URL:https://swebox.se/event/match-och-diplomtavling-internationell-round-robin/
LOCATION:Örebro
END:VEVENT
BEGIN:VEVENT
DTSTART;VALUE=DATE:20260315
DTEND;VALUE=DATE:20260316
DTSTAMP:20260420T072525
CREATED:20260119T164309Z
LAST-MODIFIED:20260315T223807Z
UID:10000186-1773532800-1773619199@swebox.se
SUMMARY:DIPLOMTÄVLING - Diplomserien SGBF
DESCRIPTION:Arrangerande förening: Stockholm-Gotlands BF\nTävlingsplats: Botkyrka BKs lokal\, Botkyrkahallen\, Brunnavägen 6\, Botkyrka\nTävlingsledare: Mario Sierra\, 076-256 56 95 el. e-post mario.sgbf@gmail.com\nTävlingstillstånd för diplomboxning beviljat
URL:https://swebox.se/event/diplomtavling-diplomserien-sgbf-7/
LOCATION:Stockholm
END:VEVENT
BEGIN:VEVENT
DTSTART;VALUE=DATE:20260321
DTEND;VALUE=DATE:20260322
DTSTAMP:20260420T072525
CREATED:20260110T124203Z
LAST-MODIFIED:20260321T043918Z
UID:10000176-1774051200-1774137599@swebox.se
SUMMARY:MATCH- och DIPLOMTÄVLING - Haninge Box Open
DESCRIPTION:Arrangerande förening: Haninge Boxningsklubb\nTävlingsplats: Haninge BKs lokal\, Jungfruns Gata 416\, Brandbergens centrum\, Brandbergen\nTävlingsledare: Jesper Schinkler\, 073-500 44 13 el. e-post jesper@haningebk.com \nTävlingstillstånd för match- och diplomboxning beviljat
URL:https://swebox.se/event/match-och-diplomtavling-haninge-box-open-3/
LOCATION:Stockholm
END:VEVENT
BEGIN:VEVENT
DTSTART;VALUE=DATE:20260321
DTEND;VALUE=DATE:20260322
DTSTAMP:20260420T072525
CREATED:20260206T135641Z
LAST-MODIFIED:20260321T043918Z
UID:10000204-1774051200-1774137599@swebox.se
SUMMARY:MATCHTÄVLING - Ymer Knockout 2
DESCRIPTION:Arrangerande förening: IK Ymer\nTävlingsplats: Boråshallen\, Bockasjögatan 2\, Borås\nTävlingsledare: Joakim Rokka\, joakimrokka@hotmail.com el. tel. nr 070-146 42 04\nTävlingstillstånd för matchboxning beviljat
URL:https://swebox.se/event/matchtavling-ymer-knockout-2/
LOCATION:Borås
END:VEVENT
BEGIN:VEVENT
DTSTART;VALUE=DATE:20260321
DTEND;VALUE=DATE:20260322
DTSTAMP:20260420T072525
CREATED:20260305T202302Z
LAST-MODIFIED:20260321T043918Z
UID:10000211-1774051200-1774137599@swebox.se
SUMMARY:DIPLOMTÄVLING - Norrlandsserien deltävling 6
DESCRIPTION:Arrangerande förening: Njurunda BK\nTävlingsplats: Njurundahallen\, Centrumgatan 1\, Kvissleby\nTävlingsledare: Henrik Dahlin\, henrikdahlin7@gmail.com el. tel.nr. 070-600 14 37\nTävlingstillstånd för diplomboxning beviljat
URL:https://swebox.se/event/diplomtavling-norrlandsserien-deltavling-6-2/
LOCATION:Njurunda
END:VEVENT
BEGIN:VEVENT
DTSTART;VALUE=DATE:20260328
DTEND;VALUE=DATE:20260329
DTSTAMP:20260420T072525
CREATED:20251216T141235Z
LAST-MODIFIED:20260328T141012Z
UID:10000169-1774656000-1774742399@swebox.se
SUMMARY:MATCH- och DIPLOMTÄVLING - Warriors of the Century
DESCRIPTION:Arrangerande förening: Skoftebyns AIS\nTävlingsplats: Lilla Nova Arena\, Nohabgatan 21\, Trollhättan\nTävlingsledare: Mika Moisio\, 070-759 32 64 el. e-post m.moisio@hotmail.com\nTävlingstillstånd för match- och diplomtävling beviljat
URL:https://swebox.se/event/match-och-diplomtavling-warriors-of-the-century/
LOCATION:Trollhättan
END:VEVENT
END:VCALENDAR