BEGIN:VCALENDAR
VERSION:2.0
PRODID:-//Svenska Boxningsförbundet - ECPv6.15.20//NONSGML v1.0//EN
CALSCALE:GREGORIAN
METHOD:PUBLISH
X-WR-CALNAME:Svenska Boxningsförbundet
X-ORIGINAL-URL:https://swebox.se
X-WR-CALDESC:Händelser för Svenska Boxningsförbundet
REFRESH-INTERVAL;VALUE=DURATION:PT1H
X-Robots-Tag:noindex
X-PUBLISHED-TTL:PT1H
BEGIN:VTIMEZONE
TZID:Europe/Stockholm
BEGIN:DAYLIGHT
TZOFFSETFROM:+0100
TZOFFSETTO:+0200
TZNAME:CEST
DTSTART:20250330T010000
END:DAYLIGHT
BEGIN:STANDARD
TZOFFSETFROM:+0200
TZOFFSETTO:+0100
TZNAME:CET
DTSTART:20251026T010000
END:STANDARD
BEGIN:DAYLIGHT
TZOFFSETFROM:+0100
TZOFFSETTO:+0200
TZNAME:CEST
DTSTART:20260329T010000
END:DAYLIGHT
BEGIN:STANDARD
TZOFFSETFROM:+0200
TZOFFSETTO:+0100
TZNAME:CET
DTSTART:20261025T010000
END:STANDARD
BEGIN:DAYLIGHT
TZOFFSETFROM:+0100
TZOFFSETTO:+0200
TZNAME:CEST
DTSTART:20270328T010000
END:DAYLIGHT
BEGIN:STANDARD
TZOFFSETFROM:+0200
TZOFFSETTO:+0100
TZNAME:CET
DTSTART:20271031T010000
END:STANDARD
END:VTIMEZONE
BEGIN:VEVENT
DTSTART;VALUE=DATE:20260516
DTEND;VALUE=DATE:20260517
DTSTAMP:20260419T215400
CREATED:20260119T164324Z
LAST-MODIFIED:20260419T190817Z
UID:10000193-1778889600-1778975999@swebox.se
SUMMARY:DIPLOMTÄVLING - Småland-Hallands diplomserie
DESCRIPTION:Arrangerande förening: BK Ringen och SHBF\nTävlingsplats: BK Ringens lokal\, Lagermansgatan 4\, Jönköping\nTävlingsledare: Per Engström\, 070-368 45 25 el. e-post perbox@hotmail.se\nTävlingstillstånd för diplomboxning beviljat
URL:https://swebox.se/event/diplomtavling-smaland-hallands-diplomserie-7/
LOCATION:Jönköping
END:VEVENT
BEGIN:VEVENT
DTSTART;VALUE=DATE:20260516
DTEND;VALUE=DATE:20260517
DTSTAMP:20260419T215400
CREATED:20260312T215314Z
LAST-MODIFIED:20260419T190817Z
UID:10000217-1778889600-1778975999@swebox.se
SUMMARY:MATCHTÄVLING - Jubileumsgala BK Ringen år
DESCRIPTION:Arrangerande förening: Boxningsklubben Ringen\nTävlingsplats: Arenan\, Idrottshuset Jönköping\, Lagermansgatan 4\, Jönköping\nTävlingsledare: Lars Lauritsen\, 073-993 35 95 el.e-post larslauritsen66@hotmail.com\nTävlingstillstånd för matchboxning beviljat
URL:https://swebox.se/event/matchtavling-jubileumsgala-bk-ringen-ar/
LOCATION:Jönköping
END:VEVENT
BEGIN:VEVENT
DTSTART;VALUE=DATE:20260516
DTEND;VALUE=DATE:20260517
DTSTAMP:20260419T215400
CREATED:20260324T131002Z
LAST-MODIFIED:20260419T190817Z
UID:10000224-1778889600-1778975999@swebox.se
SUMMARY:MATCH- och DIPLOMTÄVLING - Peking Boxing League
DESCRIPTION:Arrangerande förening: Norrköping Boxningsteam IF\nTävlingsplats: Portalen/Paviljongen (utomhus)\, Plåtslagaregatan 93\nTävlingsledare: Jonas Hjelm\, 073-361 33 14 el. e-post jonas@nbkakilles.se/nkpgbxngteam@gmail.com\nTävlingstillstånd för match- och diplomboxning beviljat
URL:https://swebox.se/event/match-och-diplomtavling-peking-boxing-league/
LOCATION:Norrköping
END:VEVENT
BEGIN:VEVENT
DTSTART;VALUE=DATE:20260516
DTEND;VALUE=DATE:20260517
DTSTAMP:20260419T215400
CREATED:20260408T163824Z
LAST-MODIFIED:20260419T190831Z
UID:10000232-1778889600-1778975999@swebox.se
SUMMARY:MATCHTÄVLING - Linnéa Box Open
DESCRIPTION:Arrangerande förening: IF Linnéa Boxning\nTävlingsplats: IF Linneás lokal\, Erstagatan 22\, Stockholm\nTävlingsledare: Daniel Gallo\, 070-722 39 92 el. e-post daniel.gallo@hotmail.se\nTävlingstillstånd för matchboxning beviljat
URL:https://swebox.se/event/matchtavling-linnea-box-open/
LOCATION:Stockholm
END:VEVENT
BEGIN:VEVENT
DTSTART;VALUE=DATE:20260516
DTEND;VALUE=DATE:20260518
DTSTAMP:20260419T215400
CREATED:20260408T163824Z
LAST-MODIFIED:20260419T190817Z
UID:10000231-1778889600-1779062399@swebox.se
SUMMARY:ÅRSMÖTESHELG
DESCRIPTION:SBFs Årsmöteshelg\nFörmöte: Lördag 16 maj 17-19\nÅrsmöte: Söndag 17 maj \nPlats: Scandic Crown\, Polhemsplatsen 3\, Göteborg\nSe kallelse för mer information. Handlingar skickas ut till föreningar 3 veckor innan mötet.
URL:https://swebox.se/event/arsmoteshelg/
LOCATION:Göteborg
END:VEVENT
END:VCALENDAR