BEGIN:VCALENDAR
VERSION:2.0
PRODID:-//Svenska Boxningsförbundet - ECPv6.15.20//NONSGML v1.0//EN
CALSCALE:GREGORIAN
METHOD:PUBLISH
X-ORIGINAL-URL:https://swebox.se
X-WR-CALDESC:Händelser för Svenska Boxningsförbundet
REFRESH-INTERVAL;VALUE=DURATION:PT1H
X-Robots-Tag:noindex
X-PUBLISHED-TTL:PT1H
BEGIN:VTIMEZONE
TZID:Europe/Stockholm
BEGIN:DAYLIGHT
TZOFFSETFROM:+0100
TZOFFSETTO:+0200
TZNAME:CEST
DTSTART:20250330T010000
END:DAYLIGHT
BEGIN:STANDARD
TZOFFSETFROM:+0200
TZOFFSETTO:+0100
TZNAME:CET
DTSTART:20251026T010000
END:STANDARD
BEGIN:DAYLIGHT
TZOFFSETFROM:+0100
TZOFFSETTO:+0200
TZNAME:CEST
DTSTART:20260329T010000
END:DAYLIGHT
BEGIN:STANDARD
TZOFFSETFROM:+0200
TZOFFSETTO:+0100
TZNAME:CET
DTSTART:20261025T010000
END:STANDARD
BEGIN:DAYLIGHT
TZOFFSETFROM:+0100
TZOFFSETTO:+0200
TZNAME:CEST
DTSTART:20270328T010000
END:DAYLIGHT
BEGIN:STANDARD
TZOFFSETFROM:+0200
TZOFFSETTO:+0100
TZNAME:CET
DTSTART:20271031T010000
END:STANDARD
END:VTIMEZONE
BEGIN:VEVENT
DTSTART;VALUE=DATE:20260501
DTEND;VALUE=DATE:20260504
DTSTAMP:20260419T203956
CREATED:20260304T201008Z
LAST-MODIFIED:20260418T185244Z
UID:10000210-1777593600-1777852799@swebox.se
SUMMARY:UTBILDNING - Tränarutbildning Steg 3 Bosön
DESCRIPTION:Arrangerande förening: Svenska Boxningsförbundet \nPlats: Bosön\, Bosövägen\, Stockholm \nLokal kontaktperson: Patrik Bengtsson\, 08-699 60 03 \nLänk till anmälan till utbildningen – Information \nKontakt på SBF: Patrik Bengtsson\, 08-699 60 03 el. e-post patrik@swebox.se  \nKostnad för utbildning: 2100 kr/person \nUtbildare: Majid Jelili
URL:https://swebox.se/event/utbildning-tranarutbildning-steg-3-boson/
LOCATION:Bosön\, Stockholm
END:VEVENT
BEGIN:VEVENT
DTSTART;VALUE=DATE:20260502
DTEND;VALUE=DATE:20260503
DTSTAMP:20260419T203956
CREATED:20260408T163810Z
LAST-MODIFIED:20260418T185244Z
UID:10000230-1777680000-1777766399@swebox.se
SUMMARY:MATCHTÄVLING - The Blitz
DESCRIPTION:Arrangerande förening: IF Linnea Boxning\nTävlingsplats: Göta Lejon\, Götgatan 55\, Stockholm\nTävlingsledare: Thabo Motsieloa\, 070-417 69 41 el. e-post thabo@live.se \nTävlingstillstånd för matchboxning beviljat
URL:https://swebox.se/event/matchtavling-the-blitz-2/
LOCATION:Stockholm
END:VEVENT
BEGIN:VEVENT
DTSTART;VALUE=DATE:20260502
DTEND;VALUE=DATE:20260503
DTSTAMP:20260419T203956
CREATED:20260413T173801Z
LAST-MODIFIED:20260418T185244Z
UID:10000235-1777680000-1777766399@swebox.se
SUMMARY:DIPLOMTÄVLING - Norrlandsserien deltävling 8
DESCRIPTION:Arrangerande förening: Timrå Boxningsklubb\nTävlingsplats: Timrå BKs träningslokal\, Vivansborg\, Nygatan 99\, Timrå\nTävlingsledare: Benny Wadell\, bennymbf@telia.com el. tel.nr. 073-024 85 51\nTävlingstillstånd för diplomboxning beviljat
URL:https://swebox.se/event/diplomtavling-norrlandsserien-deltavling-8/
LOCATION:Timrå
END:VEVENT
BEGIN:VEVENT
DTSTART;VALUE=DATE:20260502
DTEND;VALUE=DATE:20260504
DTSTAMP:20260419T203956
CREATED:20251120T195416Z
LAST-MODIFIED:20260418T185231Z
UID:10000151-1777680000-1777852799@swebox.se
SUMMARY:MATCH- och DIPLOMTÄVLING - Sala Sparbank Cup
DESCRIPTION:Arrangerande förening: Morgongåva BK\nTävlingsplats: Heby Arena/Idrottshall\, Littersbovägen 2\, Heby\nTävlingsledare: Kermith Fredriksson\, 076-137 78 49 el. e-post gkmfredriksson58@hotmail.com\nTävlingstillstånd för match- och diplomboxning beviljat
URL:https://swebox.se/event/match-och-diplomtavling-sala-sparbank-cup/
LOCATION:Heby
END:VEVENT
BEGIN:VEVENT
DTSTART;VALUE=DATE:20260502
DTEND;VALUE=DATE:20260504
DTSTAMP:20260419T203956
CREATED:20260304T200953Z
LAST-MODIFIED:20260418T185231Z
UID:10000209-1777680000-1777852799@swebox.se
SUMMARY:UTBILDNING - Tränarutbildning Steg 2 Göteborg
DESCRIPTION:Arrangerande förening: Västsvenska BF och Redbergslids BK \nPlats: Redbergslids BKs lokaler\, Nya Ullevi\, Hugo Levins plats\, Göteborg \nLokal kontaktperson: Johan Hedengran \nLänk till anmälan till utbildningen – Information \nKontakt på SBF: Patrik Bengtsson\, 08-699 60 03 el. e-post patrik@swebox.se  \nKostnad för utbildning: 1400 kr/person \nUtbildare: Johan Hedengran
URL:https://swebox.se/event/utbildning-tranarutbildning-steg-2-goteborg/
LOCATION:Göteborg
END:VEVENT
END:VCALENDAR