BEGIN:VCALENDAR
VERSION:2.0
PRODID:-//Svenska Boxningsförbundet - ECPv6.15.20//NONSGML v1.0//EN
CALSCALE:GREGORIAN
METHOD:PUBLISH
X-ORIGINAL-URL:https://swebox.se
X-WR-CALDESC:Händelser för Svenska Boxningsförbundet
REFRESH-INTERVAL;VALUE=DURATION:PT1H
X-Robots-Tag:noindex
X-PUBLISHED-TTL:PT1H
BEGIN:VTIMEZONE
TZID:Europe/Stockholm
BEGIN:DAYLIGHT
TZOFFSETFROM:+0100
TZOFFSETTO:+0200
TZNAME:CEST
DTSTART:20250330T010000
END:DAYLIGHT
BEGIN:STANDARD
TZOFFSETFROM:+0200
TZOFFSETTO:+0100
TZNAME:CET
DTSTART:20251026T010000
END:STANDARD
BEGIN:DAYLIGHT
TZOFFSETFROM:+0100
TZOFFSETTO:+0200
TZNAME:CEST
DTSTART:20260329T010000
END:DAYLIGHT
BEGIN:STANDARD
TZOFFSETFROM:+0200
TZOFFSETTO:+0100
TZNAME:CET
DTSTART:20261025T010000
END:STANDARD
BEGIN:DAYLIGHT
TZOFFSETFROM:+0100
TZOFFSETTO:+0200
TZNAME:CEST
DTSTART:20270328T010000
END:DAYLIGHT
BEGIN:STANDARD
TZOFFSETFROM:+0200
TZOFFSETTO:+0100
TZNAME:CET
DTSTART:20271031T010000
END:STANDARD
END:VTIMEZONE
BEGIN:VEVENT
DTSTART;VALUE=DATE:20260501
DTEND;VALUE=DATE:20260504
DTSTAMP:20260419T203140
CREATED:20260304T201008Z
LAST-MODIFIED:20260418T185244Z
UID:10000210-1777593600-1777852799@swebox.se
SUMMARY:UTBILDNING - Tränarutbildning Steg 3 Bosön
DESCRIPTION:Arrangerande förening: Svenska Boxningsförbundet \nPlats: Bosön\, Bosövägen\, Stockholm \nLokal kontaktperson: Patrik Bengtsson\, 08-699 60 03 \nLänk till anmälan till utbildningen – Information \nKontakt på SBF: Patrik Bengtsson\, 08-699 60 03 el. e-post patrik@swebox.se  \nKostnad för utbildning: 2100 kr/person \nUtbildare: Majid Jelili
URL:https://swebox.se/event/utbildning-tranarutbildning-steg-3-boson/
LOCATION:Bosön\, Stockholm
END:VEVENT
END:VCALENDAR