BEGIN:VCALENDAR
VERSION:2.0
PRODID:-//Svenska Boxningsförbundet - ECPv6.15.20//NONSGML v1.0//EN
CALSCALE:GREGORIAN
METHOD:PUBLISH
X-ORIGINAL-URL:https://swebox.se
X-WR-CALDESC:Händelser för Svenska Boxningsförbundet
REFRESH-INTERVAL;VALUE=DURATION:PT1H
X-Robots-Tag:noindex
X-PUBLISHED-TTL:PT1H
BEGIN:VTIMEZONE
TZID:Europe/Stockholm
BEGIN:DAYLIGHT
TZOFFSETFROM:+0100
TZOFFSETTO:+0200
TZNAME:CEST
DTSTART:20250330T010000
END:DAYLIGHT
BEGIN:STANDARD
TZOFFSETFROM:+0200
TZOFFSETTO:+0100
TZNAME:CET
DTSTART:20251026T010000
END:STANDARD
BEGIN:DAYLIGHT
TZOFFSETFROM:+0100
TZOFFSETTO:+0200
TZNAME:CEST
DTSTART:20260329T010000
END:DAYLIGHT
BEGIN:STANDARD
TZOFFSETFROM:+0200
TZOFFSETTO:+0100
TZNAME:CET
DTSTART:20261025T010000
END:STANDARD
BEGIN:DAYLIGHT
TZOFFSETFROM:+0100
TZOFFSETTO:+0200
TZNAME:CEST
DTSTART:20270328T010000
END:DAYLIGHT
BEGIN:STANDARD
TZOFFSETFROM:+0200
TZOFFSETTO:+0100
TZNAME:CET
DTSTART:20271031T010000
END:STANDARD
END:VTIMEZONE
BEGIN:VEVENT
DTSTART;VALUE=DATE:20260425
DTEND;VALUE=DATE:20260427
DTSTAMP:20260419T203931
CREATED:20260314T222546Z
LAST-MODIFIED:20260418T185230Z
UID:10000218-1777075200-1777247999@swebox.se
SUMMARY:UTBILDNING - Tränarutbildning Steg 1
DESCRIPTION:Arrangerande förening: Sydsvenska BF och Winning BC \nPlats: Winning BCs lokaler\, Johanneslustgatan 12\, Malmö \nLokal kontaktperson:  \nLänk till anmälan till utbildningen – https://educationwebregistration.idrottonline.se/home/index/2216720 \nKontakt på SBF: Patrik Bengtsson\, 08-699 60 03 el. e-post patrik@swebox.se  \nKostnad för utbildning: 1200 kr/person \nUtbildare: Johan Hedengran
URL:https://swebox.se/event/utbildning-tranarutbildning-steg-1-9/
LOCATION:Malmö
END:VEVENT
BEGIN:VEVENT
DTSTART;VALUE=DATE:20260425
DTEND;VALUE=DATE:20260427
DTSTAMP:20260419T203931
CREATED:20260320T212432Z
LAST-MODIFIED:20260418T185230Z
UID:10000220-1777075200-1777247999@swebox.se
SUMMARY:UTBILDNING - Tränarutbildning Steg 1 Stockholm
DESCRIPTION:Arrangerande förening: Stockholm-Gotland BF och Hammarby IF Boxning \nPlats: Hammarby IF Boxning lokaler i Skarpnäck\, Skarpnäcks gårdsväg 8E \nLokal kontaktperson: Joel Grandell \nLänk till anmälan till utbildningen – https://educationwebregistration.idrottonline.se/home/index/2218690 \nKontakt på SBF: Patrik Bengtsson\, 08-699 60 03 el. e-post patrik@swebox.se  \nKostnad för utbildning: 1200 kr/person \nUtbildare: Daniel Nash och Joel Grandell
URL:https://swebox.se/event/utbildning-tranarutbildning-steg-1-stockholm/
LOCATION:Stockholm
END:VEVENT
BEGIN:VEVENT
DTSTART;VALUE=DATE:20260426
DTEND;VALUE=DATE:20260427
DTSTAMP:20260419T203931
CREATED:20260204T132851Z
LAST-MODIFIED:20260418T185231Z
UID:10000202-1777161600-1777247999@swebox.se
SUMMARY:DIPLOMTÄVLING - Värmland-Närkes diplomserie
DESCRIPTION:Arrangerande förening: BK1925 och VNBF\nTävlingsplats: Idrottshuset Sundsta\, Drottning Kristinas väg 3\nTävlingsledare: Kim Pettersson\, 070-609 59 14 el.e-post kimpan74@gmail.com\nTävlingstillstånd för diplomboxning beviljat
URL:https://swebox.se/event/diplomtavling-varmland-narkes-diplomserie-6/
LOCATION:Karlstad
END:VEVENT
BEGIN:VEVENT
DTSTART;VALUE=DATE:20260426
DTEND;VALUE=DATE:20260427
DTSTAMP:20260419T203931
CREATED:20260312T215300Z
LAST-MODIFIED:20260418T185231Z
UID:10000216-1777161600-1777247999@swebox.se
SUMMARY:DIPLOMTÄVLING - Diplomtävling Revansch
DESCRIPTION:Arrangerande förening: BK Revansch\nTävlingsplats: BK Revanschs klubblokal\, Norra Bryggerigatan 3\, Sölvesborg\nTävlingsledare: Felix Lundström\, bkrevansch6@gmail.com el. 072-333 96 64\nTävlingstillstånd för diplomboxning beviljat
URL:https://swebox.se/event/diplomtavling-diplomtavling-revansch/
LOCATION:Sölvesborg
END:VEVENT
END:VCALENDAR