BEGIN:VCALENDAR
VERSION:2.0
PRODID:-//Svenska Boxningsförbundet - ECPv6.15.20//NONSGML v1.0//EN
CALSCALE:GREGORIAN
METHOD:PUBLISH
X-WR-CALNAME:Svenska Boxningsförbundet
X-ORIGINAL-URL:https://swebox.se
X-WR-CALDESC:Händelser för Svenska Boxningsförbundet
REFRESH-INTERVAL;VALUE=DURATION:PT1H
X-Robots-Tag:noindex
X-PUBLISHED-TTL:PT1H
BEGIN:VTIMEZONE
TZID:Europe/Stockholm
BEGIN:DAYLIGHT
TZOFFSETFROM:+0100
TZOFFSETTO:+0200
TZNAME:CEST
DTSTART:20250330T010000
END:DAYLIGHT
BEGIN:STANDARD
TZOFFSETFROM:+0200
TZOFFSETTO:+0100
TZNAME:CET
DTSTART:20251026T010000
END:STANDARD
BEGIN:DAYLIGHT
TZOFFSETFROM:+0100
TZOFFSETTO:+0200
TZNAME:CEST
DTSTART:20260329T010000
END:DAYLIGHT
BEGIN:STANDARD
TZOFFSETFROM:+0200
TZOFFSETTO:+0100
TZNAME:CET
DTSTART:20261025T010000
END:STANDARD
BEGIN:DAYLIGHT
TZOFFSETFROM:+0100
TZOFFSETTO:+0200
TZNAME:CEST
DTSTART:20270328T010000
END:DAYLIGHT
BEGIN:STANDARD
TZOFFSETFROM:+0200
TZOFFSETTO:+0100
TZNAME:CET
DTSTART:20271031T010000
END:STANDARD
END:VTIMEZONE
BEGIN:VEVENT
DTSTART;VALUE=DATE:20260412
DTEND;VALUE=DATE:20260413
DTSTAMP:20260419T203926
CREATED:20260119T164310Z
LAST-MODIFIED:20260412T173755Z
UID:10000190-1775952000-1776038399@swebox.se
SUMMARY:DIPLOMTÄVLING - Diplomserien SGBF
DESCRIPTION:Arrangerande förening: Stockholm-Gotlands BF\nTävlingsplats: Hammarby IFs lokal\, Skarpnäcks gårdsväg 8E\, Skarpnäck\nTävlingsledare: Mario Sierra\, 076-256 56 95 el. e-post mario.sgbf@gmail.com\nTävlingstillstånd för diplomboxning beviljat
URL:https://swebox.se/event/diplomtavling-diplomserien-sgbf-8/
LOCATION:Stockholm
END:VEVENT
END:VCALENDAR