BEGIN:VCALENDAR
VERSION:2.0
PRODID:-//Svenska Boxningsförbundet - ECPv6.15.20//NONSGML v1.0//EN
CALSCALE:GREGORIAN
METHOD:PUBLISH
X-WR-CALNAME:Svenska Boxningsförbundet
X-ORIGINAL-URL:https://swebox.se
X-WR-CALDESC:Händelser för Svenska Boxningsförbundet
REFRESH-INTERVAL;VALUE=DURATION:PT1H
X-Robots-Tag:noindex
X-PUBLISHED-TTL:PT1H
BEGIN:VTIMEZONE
TZID:Europe/Stockholm
BEGIN:DAYLIGHT
TZOFFSETFROM:+0100
TZOFFSETTO:+0200
TZNAME:CEST
DTSTART:20250330T010000
END:DAYLIGHT
BEGIN:STANDARD
TZOFFSETFROM:+0200
TZOFFSETTO:+0100
TZNAME:CET
DTSTART:20251026T010000
END:STANDARD
BEGIN:DAYLIGHT
TZOFFSETFROM:+0100
TZOFFSETTO:+0200
TZNAME:CEST
DTSTART:20260329T010000
END:DAYLIGHT
BEGIN:STANDARD
TZOFFSETFROM:+0200
TZOFFSETTO:+0100
TZNAME:CET
DTSTART:20261025T010000
END:STANDARD
BEGIN:DAYLIGHT
TZOFFSETFROM:+0100
TZOFFSETTO:+0200
TZNAME:CEST
DTSTART:20270328T010000
END:DAYLIGHT
BEGIN:STANDARD
TZOFFSETFROM:+0200
TZOFFSETTO:+0100
TZNAME:CET
DTSTART:20271031T010000
END:STANDARD
END:VTIMEZONE
BEGIN:VEVENT
DTSTART;VALUE=DATE:20260221
DTEND;VALUE=DATE:20260222
DTSTAMP:20260420T063252
CREATED:20260119T164253Z
LAST-MODIFIED:20260221T173917Z
UID:10000180-1771632000-1771718399@swebox.se
SUMMARY:MATCHTÄVLING - Ungdomslandskamp Sverige-Norge
DESCRIPTION:Arrangerande förening: Katrineholms BK och SBF\nTävlingsplats: Safiren i Katrineholm\, Drottninggatan 19\, Katrineholm\nTävlingsledare: Grace Fredriksson\, 076-560 37 05 el. e-post gkmfredriksson58@hotmail.com\nLandskampen genomförs under galan Night of Champions 4\nTävlingstillstånd för matchboxning beviljat
URL:https://swebox.se/event/matchtavling-ungdomslandskamp-sverige-norge/
LOCATION:Katrineholm
END:VEVENT
BEGIN:VEVENT
DTSTART;VALUE=DATE:20260221
DTEND;VALUE=DATE:20260222
DTSTAMP:20260420T063252
CREATED:20260119T164254Z
LAST-MODIFIED:20260221T173917Z
UID:10000181-1771632000-1771718399@swebox.se
SUMMARY:MATCH- och DIPLOMTÄVLING - Night of Champions 4
DESCRIPTION:Arrangerande förening. Katrineholms BK\nTävlingsplats: Safiren i Katrineholm\, Drottninggatan 19\, Katrineholm\nTävlingsledare: Grace Fredriksson\, 076-560 37 05 el. e-post gkmfredriksson58@hotmail.com\nTävlingstillstånd för match- och diplomboxning beviljat
URL:https://swebox.se/event/match-och-diplomtavling-night-of-champions-4/
LOCATION:Katrineholm
END:VEVENT
BEGIN:VEVENT
DTSTART;VALUE=DATE:20260221
DTEND;VALUE=DATE:20260222
DTSTAMP:20260420T063252
CREATED:20260119T164254Z
LAST-MODIFIED:20260221T173917Z
UID:10000183-1771632000-1771718399@swebox.se
SUMMARY:DIPLOMTÄVLING: Småland-Hallands Diplomserie
DESCRIPTION:Arrangerande förening: Ljungby BK och SHBF\nTävlingsplats: Ljungby BKs lokal\, Helsingborgsvägen 9\, Ljungby\nTävlingsledare: Per Engström\, 070-368 45 25 el. e-post perbox@hotmail.se\nTävlingstillstånd för diplomboxning beviljat
URL:https://swebox.se/event/diplomtavling-smaland-hallands-diplomserie-5/
LOCATION:Ljungby
END:VEVENT
BEGIN:VEVENT
DTSTART;VALUE=DATE:20260221
DTEND;VALUE=DATE:20260223
DTSTAMP:20260420T063252
CREATED:20260123T152459Z
LAST-MODIFIED:20260222T175452Z
UID:10000195-1771632000-1771804799@swebox.se
SUMMARY:UTBILDNING - Tränarutbildning Steg 2 Lund
DESCRIPTION:Arrangerande förening: Sydsvenska BF och Lunds Boxningssällskap \nPlats: Lunds BS lokaler\, Högevallsgatan 3\, Lund \nLokal kontaktperson: Karin Mattsson \nLänk till anmälan till utbildningen – https://educationwebregistration.idrottonline.se/home/index/2198755 \nKontakt på SBF: Patrik Bengtsson\, 08-699 60 03 el. e-post patrik@swebox.se  \nKostnad för utbildning: 1400 kr/person \nUtbildare: Majid Jelili
URL:https://swebox.se/event/utbildning-tranarutbildning-steg-2-lund/
LOCATION:Lund
END:VEVENT
END:VCALENDAR