BEGIN:VCALENDAR
VERSION:2.0
PRODID:-//Svenska Boxningsförbundet - ECPv6.15.20//NONSGML v1.0//EN
CALSCALE:GREGORIAN
METHOD:PUBLISH
X-ORIGINAL-URL:https://swebox.se
X-WR-CALDESC:Händelser för Svenska Boxningsförbundet
REFRESH-INTERVAL;VALUE=DURATION:PT1H
X-Robots-Tag:noindex
X-PUBLISHED-TTL:PT1H
BEGIN:VTIMEZONE
TZID:Europe/Stockholm
BEGIN:DAYLIGHT
TZOFFSETFROM:+0100
TZOFFSETTO:+0200
TZNAME:CEST
DTSTART:20240331T010000
END:DAYLIGHT
BEGIN:STANDARD
TZOFFSETFROM:+0200
TZOFFSETTO:+0100
TZNAME:CET
DTSTART:20241027T010000
END:STANDARD
BEGIN:DAYLIGHT
TZOFFSETFROM:+0100
TZOFFSETTO:+0200
TZNAME:CEST
DTSTART:20250330T010000
END:DAYLIGHT
BEGIN:STANDARD
TZOFFSETFROM:+0200
TZOFFSETTO:+0100
TZNAME:CET
DTSTART:20251026T010000
END:STANDARD
BEGIN:DAYLIGHT
TZOFFSETFROM:+0100
TZOFFSETTO:+0200
TZNAME:CEST
DTSTART:20260329T010000
END:DAYLIGHT
BEGIN:STANDARD
TZOFFSETFROM:+0200
TZOFFSETTO:+0100
TZNAME:CET
DTSTART:20261025T010000
END:STANDARD
END:VTIMEZONE
BEGIN:VEVENT
DTSTART;VALUE=DATE:20251220
DTEND;VALUE=DATE:20251221
DTSTAMP:20260420T035519
CREATED:20250613T145258Z
LAST-MODIFIED:20251220T151218Z
UID:10000087-1766188800-1766275199@swebox.se
SUMMARY:MATCH- och DIPLOMBOXNING - Bajen Open House/Fit4Fight
DESCRIPTION:Arrangerande förening: Hammarby IF Boxning \nTävlingsplats: Hammarby IF Boxnings lokaler\, Skarpnäcks gårdsväg 8E Hus 10\, Skarpnäck \nTävlingsledare: Stigge Flemström\, 070-230 35 89 el. e-post stigge.flemstrom@telia.com \nTävlingstillstånd för match- och diplomboxning beviljat
URL:https://swebox.se/event/match-och-diplomboxning-bajen-open-house-fit4fight/
LOCATION:Stockholm
END:VEVENT
BEGIN:VEVENT
DTSTART;VALUE=DATE:20251220
DTEND;VALUE=DATE:20251221
DTSTAMP:20260420T035519
CREATED:20251020T123847Z
LAST-MODIFIED:20251220T151218Z
UID:10000138-1766188800-1766275199@swebox.se
SUMMARY:MATCHTÄVLING - End of the Year - TBA Julgala
DESCRIPTION:Arrangerande förening: Trelleborg Boxing Academy BC\nTävlingsplats: Trelleborg BAs lokaler\, Engelbrektsgatan 45\, Trelleborg\nTävlingsledare: Mustafa El Molla\, 073-424 55 52 el. e-post ordforande@trelleborgboxing.se\nTävlingstillstånd för matchboxning beviljat
URL:https://swebox.se/event/matchtavling-end-of-the-year-tba-julgala/
LOCATION:Trelleborg
END:VEVENT
END:VCALENDAR