BEGIN:VCALENDAR
VERSION:2.0
PRODID:-//Svenska Boxningsförbundet - ECPv6.15.20//NONSGML v1.0//EN
CALSCALE:GREGORIAN
METHOD:PUBLISH
X-ORIGINAL-URL:https://swebox.se
X-WR-CALDESC:Händelser för Svenska Boxningsförbundet
REFRESH-INTERVAL;VALUE=DURATION:PT1H
X-Robots-Tag:noindex
X-PUBLISHED-TTL:PT1H
BEGIN:VTIMEZONE
TZID:Europe/Stockholm
BEGIN:DAYLIGHT
TZOFFSETFROM:+0100
TZOFFSETTO:+0200
TZNAME:CEST
DTSTART:20240331T010000
END:DAYLIGHT
BEGIN:STANDARD
TZOFFSETFROM:+0200
TZOFFSETTO:+0100
TZNAME:CET
DTSTART:20241027T010000
END:STANDARD
BEGIN:DAYLIGHT
TZOFFSETFROM:+0100
TZOFFSETTO:+0200
TZNAME:CEST
DTSTART:20250330T010000
END:DAYLIGHT
BEGIN:STANDARD
TZOFFSETFROM:+0200
TZOFFSETTO:+0100
TZNAME:CET
DTSTART:20251026T010000
END:STANDARD
BEGIN:DAYLIGHT
TZOFFSETFROM:+0100
TZOFFSETTO:+0200
TZNAME:CEST
DTSTART:20260329T010000
END:DAYLIGHT
BEGIN:STANDARD
TZOFFSETFROM:+0200
TZOFFSETTO:+0100
TZNAME:CET
DTSTART:20261025T010000
END:STANDARD
END:VTIMEZONE
BEGIN:VEVENT
DTSTART;VALUE=DATE:20251213
DTEND;VALUE=DATE:20251214
DTSTAMP:20260420T035553
CREATED:20250613T145258Z
LAST-MODIFIED:20251213T132631Z
UID:10000086-1765584000-1765670399@swebox.se
SUMMARY:DIPLOMTÄVLING - Top Ten-serien VBF
DESCRIPTION:Arrangerande förening: IK Ymer och Västergötlands Boxningsförbund\nTävlingsplats: IK Ymers klubblokal\, Boråshallen\, Bockasjögatan 2\, Borås\nTävlingsledare: Tony Gregner\, 073-918 90 30 el. e-post teamtonsa@gmail.com\nTävlingstillstånd för diplomboxning beviljat
URL:https://swebox.se/event/diplomtavling-top-ten-serien-vbf-3/
LOCATION:Borås
END:VEVENT
BEGIN:VEVENT
DTSTART;VALUE=DATE:20251213
DTEND;VALUE=DATE:20251214
DTSTAMP:20260420T035553
CREATED:20251107T165411Z
LAST-MODIFIED:20251213T132632Z
UID:10000146-1765584000-1765670399@swebox.se
SUMMARY:DIPLOMTÄVLING - Norrlandsserien deltävling 4
DESCRIPTION:Arrangerande förening: Allmänna Grapplingsällskapet\nTävlingsplats: Luleå Energi Arena E2\, Bastugatan 2\, Luleå\nTävlingsledare: Torbjörn Nilsson\, 070-547 70 51 el. e-post northpaw.ags@gmail.com\nTävlingstillstånd för diplomboxning beviljat
URL:https://swebox.se/event/diplomtavling-norrlandsserien-deltavling-4/
LOCATION:Luleå
END:VEVENT
BEGIN:VEVENT
DTSTART;VALUE=DATE:20251213
DTEND;VALUE=DATE:20251214
DTSTAMP:20260420T035553
CREATED:20251119T193830Z
LAST-MODIFIED:20251213T132632Z
UID:10000150-1765584000-1765670399@swebox.se
SUMMARY:DIPLOMTÄVLING - Norrlandsserien deltävling 4
DESCRIPTION:Arrangerande förening: Boxningsklubben Ängeln\nTävlingsplats: BK Ängelns lokal\, Rådhusgatan 31\, Östersund\nTävlingsledare: Anna Vedin\, 070-380 13 32 el. e-post acv@live.se \nTävlingstillstånd för diplomtävling beviljat
URL:https://swebox.se/event/diplomtavling-norrlandsserien-deltavling-4-2/
LOCATION:Östersund
END:VEVENT
BEGIN:VEVENT
DTSTART;VALUE=DATE:20251213
DTEND;VALUE=DATE:20251215
DTSTAMP:20260420T035553
CREATED:20251028T142509Z
LAST-MODIFIED:20251214T134106Z
UID:10000141-1765584000-1765756799@swebox.se
SUMMARY:UTBILDNING - Tränarutbildning Steg 2
DESCRIPTION:Arrangerande förening: Östsvenska BF och Katrineholms BK \nPlats: Katrineholms BKs lokaler\, Duveholmshallen\, Västgötagatan 39\, Katrineholm \nLokal kontaktperson: Tobias Plantin\, 070-633 71 98 \nLänk till anmälan till utbildningen – https://educationwebregistration.idrottonline.se/home/index/2134258 \nKontakt på SBF: Patrik Bengtsson\, 08-699 60 03 el. e-post patrik@swebox.se  \nKostnad för utbildning: 1400 kr/person \nUtbildare: Daniel Samuelsson
URL:https://swebox.se/event/utbildning-tranarutbildning-steg-2-4/
LOCATION:Katrineholm
END:VEVENT
END:VCALENDAR