BEGIN:VCALENDAR
VERSION:2.0
PRODID:-//Svenska Boxningsförbundet - ECPv6.15.20//NONSGML v1.0//EN
CALSCALE:GREGORIAN
METHOD:PUBLISH
X-ORIGINAL-URL:https://swebox.se
X-WR-CALDESC:Händelser för Svenska Boxningsförbundet
REFRESH-INTERVAL;VALUE=DURATION:PT1H
X-Robots-Tag:noindex
X-PUBLISHED-TTL:PT1H
BEGIN:VTIMEZONE
TZID:Europe/Stockholm
BEGIN:DAYLIGHT
TZOFFSETFROM:+0100
TZOFFSETTO:+0200
TZNAME:CEST
DTSTART:20240331T010000
END:DAYLIGHT
BEGIN:STANDARD
TZOFFSETFROM:+0200
TZOFFSETTO:+0100
TZNAME:CET
DTSTART:20241027T010000
END:STANDARD
BEGIN:DAYLIGHT
TZOFFSETFROM:+0100
TZOFFSETTO:+0200
TZNAME:CEST
DTSTART:20250330T010000
END:DAYLIGHT
BEGIN:STANDARD
TZOFFSETFROM:+0200
TZOFFSETTO:+0100
TZNAME:CET
DTSTART:20251026T010000
END:STANDARD
BEGIN:DAYLIGHT
TZOFFSETFROM:+0100
TZOFFSETTO:+0200
TZNAME:CEST
DTSTART:20260329T010000
END:DAYLIGHT
BEGIN:STANDARD
TZOFFSETFROM:+0200
TZOFFSETTO:+0100
TZNAME:CET
DTSTART:20261025T010000
END:STANDARD
END:VTIMEZONE
BEGIN:VEVENT
DTSTART;VALUE=DATE:20251122
DTEND;VALUE=DATE:20251124
DTSTAMP:20260420T024146
CREATED:20251106T163836Z
LAST-MODIFIED:20251123T203812Z
UID:10000143-1763769600-1763942399@swebox.se
SUMMARY:UTBILDNING - Tränarutbildning Steg 2
DESCRIPTION:Arrangerande förening: Sydsvenska BF och Lunds Boxningssällskap \nPlats: Lunds BS lokaler\, Högevallsgatan 3\, Lund \nLokal kontaktperson:  \nLänk till anmälan till utbildningen – https://educationwebregistration.idrottonline.se/home/index/2139049 \nKontakt på SBF: Patrik Bengtsson\, 08-699 60 03 el. e-post patrik@swebox.se  \nKostnad för utbildning: 1400 kr/person \nUtbildare: Majid Jelili
URL:https://swebox.se/event/utbildning-tranarutbildning-steg-2-5/
LOCATION:Lund
END:VEVENT
BEGIN:VEVENT
DTSTART;VALUE=DATE:20251122
DTEND;VALUE=DATE:20251124
DTSTAMP:20260420T024146
CREATED:20251106T163836Z
LAST-MODIFIED:20251123T203812Z
UID:10000144-1763769600-1763942399@swebox.se
SUMMARY:UTBILDNING - Tränarutbildning Steg 1
DESCRIPTION:Arrangerande förening: Sydsvenska BF och Höörs Kampsportcenter IF \nPlats: Höörs Kampsportcenters lokaler\, Pumpvägen 2\, Höör \nLokal kontaktperson:  \nLänk till anmälan till utbildningen –https://educationwebregistration.idrottonline.se/home/index/2139042 \nKontakt på SBF: Patrik Bengtsson\, 08-699 60 03 el. e-post patrik@swebox.se  \nKostnad för utbildning: 1200 kr/person \nUtbildare: Johan Hedengran
URL:https://swebox.se/event/utbildning-tranarutbildning-steg-1-8/
LOCATION:Höör
END:VEVENT
END:VCALENDAR