BEGIN:VCALENDAR
VERSION:2.0
PRODID:-//Svenska Boxningsförbundet - ECPv6.15.20//NONSGML v1.0//EN
CALSCALE:GREGORIAN
METHOD:PUBLISH
X-WR-CALNAME:Svenska Boxningsförbundet
X-ORIGINAL-URL:https://swebox.se
X-WR-CALDESC:Händelser för Svenska Boxningsförbundet
REFRESH-INTERVAL;VALUE=DURATION:PT1H
X-Robots-Tag:noindex
X-PUBLISHED-TTL:PT1H
BEGIN:VTIMEZONE
TZID:Europe/Stockholm
BEGIN:DAYLIGHT
TZOFFSETFROM:+0100
TZOFFSETTO:+0200
TZNAME:CEST
DTSTART:20240331T010000
END:DAYLIGHT
BEGIN:STANDARD
TZOFFSETFROM:+0200
TZOFFSETTO:+0100
TZNAME:CET
DTSTART:20241027T010000
END:STANDARD
BEGIN:DAYLIGHT
TZOFFSETFROM:+0100
TZOFFSETTO:+0200
TZNAME:CEST
DTSTART:20250330T010000
END:DAYLIGHT
BEGIN:STANDARD
TZOFFSETFROM:+0200
TZOFFSETTO:+0100
TZNAME:CET
DTSTART:20251026T010000
END:STANDARD
BEGIN:DAYLIGHT
TZOFFSETFROM:+0100
TZOFFSETTO:+0200
TZNAME:CEST
DTSTART:20260329T010000
END:DAYLIGHT
BEGIN:STANDARD
TZOFFSETFROM:+0200
TZOFFSETTO:+0100
TZNAME:CET
DTSTART:20261025T010000
END:STANDARD
END:VTIMEZONE
BEGIN:VEVENT
DTSTART;VALUE=DATE:20251115
DTEND;VALUE=DATE:20251117
DTSTAMP:20260420T035422
CREATED:20250911T170716Z
LAST-MODIFIED:20251116T185304Z
UID:10000118-1763164800-1763337599@swebox.se
SUMMARY:MATCH- och DIPLOMTÄVLING - Draken Box Cup
DESCRIPTION:Arrangerande förening: Sundsvalls BK\nTävlingsplats: Sundsvalls sporthall\, Universitetsallén 11\, Sundsvall\nTävlingsledare: Fredrik Stridh\, 070-519 45 73 el. e-post fstridh92@gmail.com\nTävlingstillstånd för match- och diplomboxning beviljat
URL:https://swebox.se/event/match-och-diplomtavling-draken-box-cup/
LOCATION:Sundsvall
END:VEVENT
BEGIN:VEVENT
DTSTART;VALUE=DATE:20251115
DTEND;VALUE=DATE:20251117
DTSTAMP:20260420T035422
CREATED:20251001T195222Z
LAST-MODIFIED:20251116T185304Z
UID:10000129-1763164800-1763337599@swebox.se
SUMMARY:UTBILDNING - Tränarutbildning Steg 2 i Borås
DESCRIPTION:Arrangerande förening: Västergötlands BF och IK Ymer Boxning \nPlats: IK Ymers lokaler\, Ymergården och träningslokalen i Boråshallen\, Bockasjögatan 2\, Borås \nLokal kontaktperson: Micke Nyberg  \nLänk till anmälan till utbildningen – https://educationwebregistration.idrottonline.se/home/index/2125165 \nKontakt på SBF: Patrik Bengtsson\, 08-699 60 03 el. e-post patrik@swebox.se  \nKostnad för utbildning: 1400 kr/person
URL:https://swebox.se/event/utbildning-tranarutbildning-steg-2-i-boras/
LOCATION:Borås
END:VEVENT
BEGIN:VEVENT
DTSTART;VALUE=DATE:20251116
DTEND;VALUE=DATE:20251117
DTSTAMP:20260420T035422
CREATED:20250613T145257Z
LAST-MODIFIED:20251116T185304Z
UID:10000082-1763251200-1763337599@swebox.se
SUMMARY:DIPLOMTÄVLING - Diplomserien SGBF
DESCRIPTION:Arrangerande förening: Stockholm-Gotlands BF * \nTävlingsplats: Botkyrka BK:s lokal\, Botkyrkahallen\, Brunnavägen 6\, Botkyrka \nTävlingsledare: Vido Ratkovic\, 070-788 01 01 el. e-post vido@haningebk.com  \nTävlingstillstånd för diplomboxning beviljat
URL:https://swebox.se/event/diplomtavling-diplomserien-sgbf-3/
LOCATION:Botkyrka
END:VEVENT
END:VCALENDAR