BEGIN:VCALENDAR
VERSION:2.0
PRODID:-//Svenska Boxningsförbundet - ECPv6.15.20//NONSGML v1.0//EN
CALSCALE:GREGORIAN
METHOD:PUBLISH
X-ORIGINAL-URL:https://swebox.se
X-WR-CALDESC:Händelser för Svenska Boxningsförbundet
REFRESH-INTERVAL;VALUE=DURATION:PT1H
X-Robots-Tag:noindex
X-PUBLISHED-TTL:PT1H
BEGIN:VTIMEZONE
TZID:Europe/Stockholm
BEGIN:DAYLIGHT
TZOFFSETFROM:+0100
TZOFFSETTO:+0200
TZNAME:CEST
DTSTART:20240331T010000
END:DAYLIGHT
BEGIN:STANDARD
TZOFFSETFROM:+0200
TZOFFSETTO:+0100
TZNAME:CET
DTSTART:20241027T010000
END:STANDARD
BEGIN:DAYLIGHT
TZOFFSETFROM:+0100
TZOFFSETTO:+0200
TZNAME:CEST
DTSTART:20250330T010000
END:DAYLIGHT
BEGIN:STANDARD
TZOFFSETFROM:+0200
TZOFFSETTO:+0100
TZNAME:CET
DTSTART:20251026T010000
END:STANDARD
BEGIN:DAYLIGHT
TZOFFSETFROM:+0100
TZOFFSETTO:+0200
TZNAME:CEST
DTSTART:20260329T010000
END:DAYLIGHT
BEGIN:STANDARD
TZOFFSETFROM:+0200
TZOFFSETTO:+0100
TZNAME:CET
DTSTART:20261025T010000
END:STANDARD
END:VTIMEZONE
BEGIN:VEVENT
DTSTART;VALUE=DATE:20251115
DTEND;VALUE=DATE:20251116
DTSTAMP:20260420T024213
CREATED:20251023T130846Z
LAST-MODIFIED:20251115T183912Z
UID:10000139-1763164800-1763251199@swebox.se
SUMMARY:MATCHTÄVLING - Dalaslaget - INSTÄLLD!
DESCRIPTION:Arrangerande förening: Boxningsklubben Masen\nTävlingsplats: Cozmoz Arena\, Engelbrektsgatan 34\, Borlänge\nTävlingsledare: Kermith Fredriksson\, 076-137 78 49 el. post gkmfredriksson58@hotmail.com\nTävlingstillstånd för matchboxning beviljat
URL:https://swebox.se/event/matchtavling-dalaslaget/
LOCATION:Borlänge
END:VEVENT
BEGIN:VEVENT
DTSTART;VALUE=DATE:20251115
DTEND;VALUE=DATE:20251116
DTSTAMP:20260420T024213
CREATED:20250910T165150Z
LAST-MODIFIED:20251115T183912Z
UID:10000116-1763164800-1763251199@swebox.se
SUMMARY:DIPLOMTÄVLING - Värmland-Närkes Diplomserie
DESCRIPTION:Arrangerande förening: Värmland-Närkes BF och BK Trim\nTävlingsplats: BK Trims klubblokal\, Montörsgatan 2\, Kristinehamn\nTävlingsledare: Linda Broman\, 070-772 00 26 el. e-post linda.broman@mbsaljteknik.nu\nTävlingstillstånd för diplomboxning beviljat
URL:https://swebox.se/event/diplomtavling-varmland-narkes-diplomserie-2/
LOCATION:Kristinehamn
END:VEVENT
BEGIN:VEVENT
DTSTART;VALUE=DATE:20251115
DTEND;VALUE=DATE:20251116
DTSTAMP:20260420T024213
CREATED:20250919T182157Z
LAST-MODIFIED:20251115T183912Z
UID:10000122-1763164800-1763251199@swebox.se
SUMMARY:MATCH- och DIPLOMTÄVLING - Haninge Box Open
DESCRIPTION:Arrangerande förening: Haninge BK\nTävlingsplats: Haninge BKs lokal\, Brandbergens centrum\, Jungfruns gata 416\nTävlingsledare: Jesper Schinkler\, 073-500 44 13 el. e-post jesper@haningebk.com\nTävlingstillstånd för match- och diplomboxning beviljat
URL:https://swebox.se/event/match-och-diplomtavling-haninge-box-open-2/
LOCATION:Haninge
END:VEVENT
BEGIN:VEVENT
DTSTART;VALUE=DATE:20251115
DTEND;VALUE=DATE:20251116
DTSTAMP:20260420T024213
CREATED:20251010T215457Z
LAST-MODIFIED:20251115T183912Z
UID:10000133-1763164800-1763251199@swebox.se
SUMMARY:MATCH- och DIPLOMTÄVLING - BK Trim Fight Night
DESCRIPTION:Arrangerande förening: BK Trim\nTävlingsplats: BK Trims klubbhus\, Montörgatan 2\, Kristinehamn\nTävlingsledare: Jan Eliasson\, 070-368 77 97 el. e-post janmobed@gmail.com\nTävlingstillstånd för match- och diplomboxning beviljat
URL:https://swebox.se/event/match-och-diplomtavling-bk-trim-fight-night/
LOCATION:Kristinehamn
END:VEVENT
BEGIN:VEVENT
DTSTART;VALUE=DATE:20251115
DTEND;VALUE=DATE:20251116
DTSTAMP:20260420T024213
CREATED:20251010T215457Z
LAST-MODIFIED:20251115T183912Z
UID:10000134-1763164800-1763251199@swebox.se
SUMMARY:MATCH- och DIPLOMTÄVLING - Boxing Nation
DESCRIPTION:Arrangerande förening: Föreningen Mölndals Martial Arts Centre\nTävlingsplats: Föreningen Mölndals MMA Centres lokal\, Flöjelbergsgatan 7B\, Mölndal\nTävlingsledare: Kennedy Wandera och Orlando Garcia\, 076-585 02 65 el. kwadrac@gmail.com \nTävlingstillstånd för match- och diplomboxning beviljat
URL:https://swebox.se/event/match-och-diplomtavling-boxing-nation/
LOCATION:Mölndal
END:VEVENT
BEGIN:VEVENT
DTSTART;VALUE=DATE:20251115
DTEND;VALUE=DATE:20251116
DTSTAMP:20260420T024213
CREATED:20251020T123819Z
LAST-MODIFIED:20251115T183912Z
UID:10000137-1763164800-1763251199@swebox.se
SUMMARY:MATCH- och DIPLOMTÄVLING - Strike Fight Night 3 - INSTÄLLD
DESCRIPTION:Arrangerande förening: Oskarshamns BK\nTävlingsplats: Oskarshamns BKs lokal\, Sörviksvägen 15B\, Oskarhamn\nTävlingsledare: Jimmy Björketidt\, 076-007 81 00 el. e -post jimmy.bjorketidt@gripenboxning.se\nTävlingstillstånd för match- och diplomboxning beviljat
URL:https://swebox.se/event/match-och-diplomtavling-strike-fight-night-3/
LOCATION:Oskarshamn
END:VEVENT
BEGIN:VEVENT
DTSTART;VALUE=DATE:20251115
DTEND;VALUE=DATE:20251116
DTSTAMP:20260420T024213
CREATED:20251023T130859Z
LAST-MODIFIED:20251115T183912Z
UID:10000140-1763164800-1763251199@swebox.se
SUMMARY:DIPLOMTÄVLING - TBA diplomtävling
DESCRIPTION:Arrangerande förening: Trelleborg Boxing Academy\nTävlingsplats: Trelleborg BAs lokal\, Engelbrektsgatan 45\, Trelleborg\nTävlingsledare: Mustafa El Molla\, 073 424 55 52 el. e-post ordforande@trelleborgboxing.se \nTävlingstillstånd för diplomboxning beviljat
URL:https://swebox.se/event/diplomtavling-tba-diplomtavling/
LOCATION:Trelleborg
END:VEVENT
BEGIN:VEVENT
DTSTART;VALUE=DATE:20251115
DTEND;VALUE=DATE:20251117
DTSTAMP:20260420T024213
CREATED:20250911T170716Z
LAST-MODIFIED:20251116T185304Z
UID:10000118-1763164800-1763337599@swebox.se
SUMMARY:MATCH- och DIPLOMTÄVLING - Draken Box Cup
DESCRIPTION:Arrangerande förening: Sundsvalls BK\nTävlingsplats: Sundsvalls sporthall\, Universitetsallén 11\, Sundsvall\nTävlingsledare: Fredrik Stridh\, 070-519 45 73 el. e-post fstridh92@gmail.com\nTävlingstillstånd för match- och diplomboxning beviljat
URL:https://swebox.se/event/match-och-diplomtavling-draken-box-cup/
LOCATION:Sundsvall
END:VEVENT
BEGIN:VEVENT
DTSTART;VALUE=DATE:20251115
DTEND;VALUE=DATE:20251117
DTSTAMP:20260420T024213
CREATED:20251001T195222Z
LAST-MODIFIED:20251116T185304Z
UID:10000129-1763164800-1763337599@swebox.se
SUMMARY:UTBILDNING - Tränarutbildning Steg 2 i Borås
DESCRIPTION:Arrangerande förening: Västergötlands BF och IK Ymer Boxning \nPlats: IK Ymers lokaler\, Ymergården och träningslokalen i Boråshallen\, Bockasjögatan 2\, Borås \nLokal kontaktperson: Micke Nyberg  \nLänk till anmälan till utbildningen – https://educationwebregistration.idrottonline.se/home/index/2125165 \nKontakt på SBF: Patrik Bengtsson\, 08-699 60 03 el. e-post patrik@swebox.se  \nKostnad för utbildning: 1400 kr/person
URL:https://swebox.se/event/utbildning-tranarutbildning-steg-2-i-boras/
LOCATION:Borås
END:VEVENT
END:VCALENDAR