BEGIN:VCALENDAR
VERSION:2.0
PRODID:-//Svenska Boxningsförbundet - ECPv6.15.20//NONSGML v1.0//EN
CALSCALE:GREGORIAN
METHOD:PUBLISH
X-ORIGINAL-URL:https://swebox.se
X-WR-CALDESC:Händelser för Svenska Boxningsförbundet
REFRESH-INTERVAL;VALUE=DURATION:PT1H
X-Robots-Tag:noindex
X-PUBLISHED-TTL:PT1H
BEGIN:VTIMEZONE
TZID:Europe/Stockholm
BEGIN:DAYLIGHT
TZOFFSETFROM:+0100
TZOFFSETTO:+0200
TZNAME:CEST
DTSTART:20240331T010000
END:DAYLIGHT
BEGIN:STANDARD
TZOFFSETFROM:+0200
TZOFFSETTO:+0100
TZNAME:CET
DTSTART:20241027T010000
END:STANDARD
BEGIN:DAYLIGHT
TZOFFSETFROM:+0100
TZOFFSETTO:+0200
TZNAME:CEST
DTSTART:20250330T010000
END:DAYLIGHT
BEGIN:STANDARD
TZOFFSETFROM:+0200
TZOFFSETTO:+0100
TZNAME:CET
DTSTART:20251026T010000
END:STANDARD
BEGIN:DAYLIGHT
TZOFFSETFROM:+0100
TZOFFSETTO:+0200
TZNAME:CEST
DTSTART:20260329T010000
END:DAYLIGHT
BEGIN:STANDARD
TZOFFSETFROM:+0200
TZOFFSETTO:+0100
TZNAME:CET
DTSTART:20261025T010000
END:STANDARD
END:VTIMEZONE
BEGIN:VEVENT
DTSTART;VALUE=DATE:20251108
DTEND;VALUE=DATE:20251109
DTSTAMP:20260420T024135
CREATED:20250613T145257Z
LAST-MODIFIED:20251108T170812Z
UID:10000081-1762560000-1762646399@swebox.se
SUMMARY:DIPLOMTÄVLING - Top Ten-serien VBF
DESCRIPTION:Arrangerande förening: TK Alingsås BK och Västergötlands Boxningsförbund \nTävlingsplats: TK Alingsås klubblokal\, Aleforsvägen 10\, Alingsås \nTävlingsledare: Tony Gregner\, 073-918 90 30 el. e-post teamtonsa@gmail.com \nTävlingstillstånd för diplomboxning beviljat
URL:https://swebox.se/event/diplomtavling-top-ten-serien-vbf-2/
LOCATION:Alingsås
END:VEVENT
BEGIN:VEVENT
DTSTART;VALUE=DATE:20251108
DTEND;VALUE=DATE:20251109
DTSTAMP:20260420T024135
CREATED:20250930T193744Z
LAST-MODIFIED:20251108T170812Z
UID:10000127-1762560000-1762646399@swebox.se
SUMMARY:MATCH- och DIPLOMTÄVLING - Boxing All day och Upplandsserien i diplom deltävling 3
DESCRIPTION:Arrangerande förening: Morgongåva Boxningsklubb\nTävlingsplats: Heby skola – ljussalen\, Skolgatan 7\, Heby\nTävlingsledare: Kermith Fredriksson\, gkmfredriksson58@hotmail.com el. telefon 076-137 78 49\nTävlingstillstånd för match- och diplomboxning beviljat
URL:https://swebox.se/event/match-och-diplomtavling-boxing-all-day-och-upplandsserien-i-diplom-deltavling-3/
LOCATION:Heby
END:VEVENT
BEGIN:VEVENT
DTSTART;VALUE=DATE:20251108
DTEND;VALUE=DATE:20251109
DTSTAMP:20260420T024135
CREATED:20251017T233851Z
LAST-MODIFIED:20251108T170812Z
UID:10000135-1762560000-1762646399@swebox.se
SUMMARY:DIPLOMTÄVLING - Norrlandsserien deltävling 3
DESCRIPTION:Arrangerande förening: Umeå Boxningsklubb\nTävlingsplats: Umeå BKs klubblokal\, Gammliavägen 5\, Umeå\nTävlingsledare: Ola Hedblom\, 070-255 79 03 el. e-post ola.hedblom@gmail.com\nTävlingstillstånd för diplomboxning beviljat
URL:https://swebox.se/event/diplomtavling-norrlandsserien-deltavling-3/
LOCATION:Umeå
END:VEVENT
END:VCALENDAR