BEGIN:VCALENDAR
VERSION:2.0
PRODID:-//Svenska Boxningsförbundet - ECPv6.15.20//NONSGML v1.0//EN
CALSCALE:GREGORIAN
METHOD:PUBLISH
X-ORIGINAL-URL:https://swebox.se
X-WR-CALDESC:Händelser för Svenska Boxningsförbundet
REFRESH-INTERVAL;VALUE=DURATION:PT1H
X-Robots-Tag:noindex
X-PUBLISHED-TTL:PT1H
BEGIN:VTIMEZONE
TZID:Europe/Stockholm
BEGIN:DAYLIGHT
TZOFFSETFROM:+0100
TZOFFSETTO:+0200
TZNAME:CEST
DTSTART:20240331T010000
END:DAYLIGHT
BEGIN:STANDARD
TZOFFSETFROM:+0200
TZOFFSETTO:+0100
TZNAME:CET
DTSTART:20241027T010000
END:STANDARD
BEGIN:DAYLIGHT
TZOFFSETFROM:+0100
TZOFFSETTO:+0200
TZNAME:CEST
DTSTART:20250330T010000
END:DAYLIGHT
BEGIN:STANDARD
TZOFFSETFROM:+0200
TZOFFSETTO:+0100
TZNAME:CET
DTSTART:20251026T010000
END:STANDARD
BEGIN:DAYLIGHT
TZOFFSETFROM:+0100
TZOFFSETTO:+0200
TZNAME:CEST
DTSTART:20260329T010000
END:DAYLIGHT
BEGIN:STANDARD
TZOFFSETFROM:+0200
TZOFFSETTO:+0100
TZNAME:CET
DTSTART:20261025T010000
END:STANDARD
END:VTIMEZONE
BEGIN:VEVENT
DTSTART;VALUE=DATE:20251031
DTEND;VALUE=DATE:20251103
DTSTAMP:20260420T013054
CREATED:20250422T173653Z
LAST-MODIFIED:20251102T154100Z
UID:10000061-1761868800-1762127999@swebox.se
SUMMARY:MATCH- och DIPLOMTÄVLING - King of The Ring
DESCRIPTION:Arrangerande förening: BK Rebell\nTävlingsplats: Boråshallen\, Bockasjögatan 2\, Borås\nTävlingsledare: Ray Husac\, 073-594 54 11 el. e-post ray@teamgolden.se \nTävlingstillstånd för match- och diplomboxning beviljat
URL:https://swebox.se/event/match-och-diplomtavling-king-of-the-ring/
LOCATION:Borås
END:VEVENT
BEGIN:VEVENT
DTSTART;VALUE=DATE:20251101
DTEND;VALUE=DATE:20251102
DTSTAMP:20260420T013054
CREATED:20250919T182157Z
LAST-MODIFIED:20251101T152346Z
UID:10000121-1761955200-1762041599@swebox.se
SUMMARY:MATCH- och DIPLOMTÄVLING - Allhelgonagalan
DESCRIPTION:Arrangerande förening: BK1925 \nTävlingsplats: Idrottshuset Sundsta\, Drottning Kristinas väg 3\, Karlstad\nTävlingsledare: Grace Fredriksson\, marygracejt@hotmail.com \nMatchmaker: Kermith Fredriksson\, 076-137 78 49 \nTävlingstillstånd för match- och diplomboxning beviljat
URL:https://swebox.se/event/match-och-diplomtavling-allhelgonagalan/
LOCATION:Karlstad
END:VEVENT
BEGIN:VEVENT
DTSTART;VALUE=DATE:20251101
DTEND;VALUE=DATE:20251102
DTSTAMP:20260420T013054
CREATED:20251007T210958Z
LAST-MODIFIED:20251101T152346Z
UID:10000131-1761955200-1762041599@swebox.se
SUMMARY:MATCH- och DIPLOMTÄVLING - Internationell tävling Boden
DESCRIPTION:Arrangerande förening: I19 Idrottsförening Boden\nTävlingsplats: Hildursborgs Sporthall\, Garnisonsgatan 1\, Boden\nTävlingsledare: PO Larsson\, 070-630 33 46 el. e-post pohjalmar.l@hotmail.com \nTävlingstillstånd för match- och diplomboxning beviljat
URL:https://swebox.se/event/match-och-diplomtavling-internationell-tavling-boden/
LOCATION:Boden
END:VEVENT
END:VCALENDAR