BEGIN:VCALENDAR
VERSION:2.0
PRODID:-//Svenska Boxningsförbundet - ECPv6.15.20//NONSGML v1.0//EN
CALSCALE:GREGORIAN
METHOD:PUBLISH
X-WR-CALNAME:Svenska Boxningsförbundet
X-ORIGINAL-URL:https://swebox.se
X-WR-CALDESC:Händelser för Svenska Boxningsförbundet
REFRESH-INTERVAL;VALUE=DURATION:PT1H
X-Robots-Tag:noindex
X-PUBLISHED-TTL:PT1H
BEGIN:VTIMEZONE
TZID:Europe/Stockholm
BEGIN:DAYLIGHT
TZOFFSETFROM:+0100
TZOFFSETTO:+0200
TZNAME:CEST
DTSTART:20240331T010000
END:DAYLIGHT
BEGIN:STANDARD
TZOFFSETFROM:+0200
TZOFFSETTO:+0100
TZNAME:CET
DTSTART:20241027T010000
END:STANDARD
BEGIN:DAYLIGHT
TZOFFSETFROM:+0100
TZOFFSETTO:+0200
TZNAME:CEST
DTSTART:20250330T010000
END:DAYLIGHT
BEGIN:STANDARD
TZOFFSETFROM:+0200
TZOFFSETTO:+0100
TZNAME:CET
DTSTART:20251026T010000
END:STANDARD
BEGIN:DAYLIGHT
TZOFFSETFROM:+0100
TZOFFSETTO:+0200
TZNAME:CEST
DTSTART:20260329T010000
END:DAYLIGHT
BEGIN:STANDARD
TZOFFSETFROM:+0200
TZOFFSETTO:+0100
TZNAME:CET
DTSTART:20261025T010000
END:STANDARD
END:VTIMEZONE
BEGIN:VEVENT
DTSTART;VALUE=DATE:20251025
DTEND;VALUE=DATE:20251026
DTSTAMP:20260420T024054
CREATED:20250905T153719Z
LAST-MODIFIED:20251025T133909Z
UID:10000108-1761350400-1761436799@swebox.se
SUMMARY:DIPLOMTÄVLING - Östsvenska Nicopiaserien deltävling 7
DESCRIPTION:Arrangerande förening: ÖBF och NBK Akilles \nTävlingsplats: NBK Akilles träningslokal\, Lindövägen 17\, Norrköping \nTävlingsledare: Jonas Hjelm\, 073-361 33 14 el. e-post jonas@nbkakilles.se  \nTävlingstillstånd för diplomboxning beviljat
URL:https://swebox.se/event/diplomtavling-ostsvenska-nicopiaserien-deltavling-7/
LOCATION:Norrköping
END:VEVENT
BEGIN:VEVENT
DTSTART;VALUE=DATE:20251025
DTEND;VALUE=DATE:20251026
DTSTAMP:20260420T024054
CREATED:20250926T192130Z
LAST-MODIFIED:20251025T133909Z
UID:10000124-1761350400-1761436799@swebox.se
SUMMARY:DIPLOMTÄVLING - Småland/Hallands diplomserie
DESCRIPTION:Arrangerande förening: SHBF och Boxningsklubben Ringen\nTävlingsplats: BK Ringens klubblokal\, Idrottshuset\, Lagermansgatan 4\, Jönköping\nTävlingsledare: Per Engström\, 070-368 45 25 el. e-post perbox@hotmail.com \nTävlingstillstånd för diplomboxning beviljat
URL:https://swebox.se/event/diplomtavling-smaland-hallands-diplomserie/
LOCATION:Jönköping
END:VEVENT
BEGIN:VEVENT
DTSTART;VALUE=DATE:20251025
DTEND;VALUE=DATE:20251026
DTSTAMP:20260420T024054
CREATED:20251007T210958Z
LAST-MODIFIED:20251025T133909Z
UID:10000130-1761350400-1761436799@swebox.se
SUMMARY:MATCH- och DIPLOMTÄVLING - Höllviken Fight Night
DESCRIPTION:Arrangerande förening: Höllvikens Boxningsklubb\nTävlingsplats: Höllvikens BK klubblokal\, Ängdalavägen 38\, Höllviken\nTävlingsledare: Mustafa El-Molla\, 073-424 55 52 el. e-post harstedtaxel@gmail.com\nTävlingstillstånd för match- och diplomboxning beviljat
URL:https://swebox.se/event/match-och-diplomtavling-hollviken-fight-night-2/
LOCATION:Höllviken
END:VEVENT
END:VCALENDAR