BEGIN:VCALENDAR
VERSION:2.0
PRODID:-//Svenska Boxningsförbundet - ECPv6.15.20//NONSGML v1.0//EN
CALSCALE:GREGORIAN
METHOD:PUBLISH
X-ORIGINAL-URL:https://swebox.se
X-WR-CALDESC:Händelser för Svenska Boxningsförbundet
REFRESH-INTERVAL;VALUE=DURATION:PT1H
X-Robots-Tag:noindex
X-PUBLISHED-TTL:PT1H
BEGIN:VTIMEZONE
TZID:Europe/Stockholm
BEGIN:DAYLIGHT
TZOFFSETFROM:+0100
TZOFFSETTO:+0200
TZNAME:CEST
DTSTART:20240331T010000
END:DAYLIGHT
BEGIN:STANDARD
TZOFFSETFROM:+0200
TZOFFSETTO:+0100
TZNAME:CET
DTSTART:20241027T010000
END:STANDARD
BEGIN:DAYLIGHT
TZOFFSETFROM:+0100
TZOFFSETTO:+0200
TZNAME:CEST
DTSTART:20250330T010000
END:DAYLIGHT
BEGIN:STANDARD
TZOFFSETFROM:+0200
TZOFFSETTO:+0100
TZNAME:CET
DTSTART:20251026T010000
END:STANDARD
BEGIN:DAYLIGHT
TZOFFSETFROM:+0100
TZOFFSETTO:+0200
TZNAME:CEST
DTSTART:20260329T010000
END:DAYLIGHT
BEGIN:STANDARD
TZOFFSETFROM:+0200
TZOFFSETTO:+0100
TZNAME:CET
DTSTART:20261025T010000
END:STANDARD
END:VTIMEZONE
BEGIN:VEVENT
DTSTART;VALUE=DATE:20251018
DTEND;VALUE=DATE:20251019
DTSTAMP:20260420T013123
CREATED:20250617T153701Z
LAST-MODIFIED:20251018T235423Z
UID:10000091-1760745600-1760831999@swebox.se
SUMMARY:MATCH- och DIPLOMTÄVLING- Djurgården Box Open
DESCRIPTION:Arrangerande förening: Djurgårdens IF Boxning\nTävlingsplats: Djurgårdens Boxningslokal\, Tomtebogatan 13\, Stockholm\nTävlingsledare: Henrik Bromfält\, 070-161 40 00 el. e-post henrik.bromfalt@gmail.com\nTävlingstillstånd för match- och diplomboxning beviljat
URL:https://swebox.se/event/match-och-diplomtavling-djurgarden-box-open-3/
LOCATION:Stockholm
END:VEVENT
BEGIN:VEVENT
DTSTART;VALUE=DATE:20251018
DTEND;VALUE=DATE:20251019
DTSTAMP:20260420T013123
CREATED:20250909T163701Z
LAST-MODIFIED:20251018T235424Z
UID:10000112-1760745600-1760831999@swebox.se
SUMMARY:DIPLOMTÄVLING - Norrlandsserien deltävling 2
DESCRIPTION:Arrangerande förening: IFK Umeå Boxning\nTävlingsplats: IFK Umeås lokaler\, Badmintonstadion Umeå\, Bruksvägen 13\, Umeå\nTävlingsledare: Joakim Eriksson\, 072-227 70 31 el. e-post ifkumeaboxning@outlook.com\nTävlingstillstånd för diplomboxning beviljat
URL:https://swebox.se/event/diplomtavling-norrlandsserien-deltavling-2/
LOCATION:Umeå
END:VEVENT
BEGIN:VEVENT
DTSTART;VALUE=DATE:20251018
DTEND;VALUE=DATE:20251019
DTSTAMP:20260420T013123
CREATED:20250919T182143Z
LAST-MODIFIED:20251018T235424Z
UID:10000120-1760745600-1760831999@swebox.se
SUMMARY:DIPLOMTÄVLING - Diplomtävling i Höganäs
DESCRIPTION:Arrangerande förening: Höganäs Boxningsklubb\nTävlingsplats: Höganäs BKs lokaler\, Höganäs sportcenter\, Friluftsvägen 10\, Höganäs\nTävlingsledare: Sami Dashaj\, 073-77 77 159 el. epost sako.d@live.se\nTävlingstillstånd för diplomboxning beviljat
URL:https://swebox.se/event/diplomtavling-diplomtavling-i-hoganas-2/
LOCATION:Höganäs
END:VEVENT
BEGIN:VEVENT
DTSTART;VALUE=DATE:20251018
DTEND;VALUE=DATE:20251020
DTSTAMP:20260420T013123
CREATED:20250704T152107Z
LAST-MODIFIED:20251018T235423Z
UID:10000101-1760745600-1760918399@swebox.se
SUMMARY:MATCHTÄVLING - Ymer Boxning Knockout
DESCRIPTION:Arrangerande förening: IK Ymer Boxning\nTävlingsplats: IK Ymers klubblokal\, Boråshallen\, Bockasjögatan 2\nTävlingsledare: Jan Eliasson\, 070-368 77 97 el. e-post jan@tifabc.com \nMatchmaker: Joakim Rokka\, 070-146 42 04\nTävlingstillstånd för matchboxning beviljat
URL:https://swebox.se/event/matchtavling-ymer-boxning-knockout/
LOCATION:Borås
END:VEVENT
END:VCALENDAR