BEGIN:VCALENDAR
VERSION:2.0
PRODID:-//Svenska Boxningsförbundet - ECPv6.15.20//NONSGML v1.0//EN
CALSCALE:GREGORIAN
METHOD:PUBLISH
X-ORIGINAL-URL:https://swebox.se
X-WR-CALDESC:Händelser för Svenska Boxningsförbundet
REFRESH-INTERVAL;VALUE=DURATION:PT1H
X-Robots-Tag:noindex
X-PUBLISHED-TTL:PT1H
BEGIN:VTIMEZONE
TZID:Europe/Stockholm
BEGIN:DAYLIGHT
TZOFFSETFROM:+0100
TZOFFSETTO:+0200
TZNAME:CEST
DTSTART:20240331T010000
END:DAYLIGHT
BEGIN:STANDARD
TZOFFSETFROM:+0200
TZOFFSETTO:+0100
TZNAME:CET
DTSTART:20241027T010000
END:STANDARD
BEGIN:DAYLIGHT
TZOFFSETFROM:+0100
TZOFFSETTO:+0200
TZNAME:CEST
DTSTART:20250330T010000
END:DAYLIGHT
BEGIN:STANDARD
TZOFFSETFROM:+0200
TZOFFSETTO:+0100
TZNAME:CET
DTSTART:20251026T010000
END:STANDARD
BEGIN:DAYLIGHT
TZOFFSETFROM:+0100
TZOFFSETTO:+0200
TZNAME:CEST
DTSTART:20260329T010000
END:DAYLIGHT
BEGIN:STANDARD
TZOFFSETFROM:+0200
TZOFFSETTO:+0100
TZNAME:CET
DTSTART:20261025T010000
END:STANDARD
END:VTIMEZONE
BEGIN:VEVENT
DTSTART;TZID=Europe/Stockholm:20251015T170000
DTEND;TZID=Europe/Stockholm:20251015T210000
DTSTAMP:20260420T013115
CREATED:20250922T183625Z
LAST-MODIFIED:20251014T225339Z
UID:10000123-1760547600-1760562000@swebox.se
SUMMARY:UTBILDNING - Ringdomarutbildning Stockholm
DESCRIPTION:Plats: Botkyrka Boxningsklubbs lokal\, Botkyrkahallen\, Brunnavägen 6\, Stockholm \nKostnad: 700 kronor per person  \nInformation och anmälan: Förkunskaper och erfarenhet som poängdomare är ett krav.  \nAnmälan sker via följande länk:  https://educationwebregistration.idrottonline.se/home/index/2120499 \nKontakta Yilmaz Poli\, 070-880 11 31 för mer information
URL:https://swebox.se/event/utbildning-ringdomarutbildning-stockholm/
LOCATION:Stockholm
END:VEVENT
END:VCALENDAR