BEGIN:VCALENDAR
VERSION:2.0
PRODID:-//Svenska Boxningsförbundet - ECPv6.15.20//NONSGML v1.0//EN
CALSCALE:GREGORIAN
METHOD:PUBLISH
X-ORIGINAL-URL:https://swebox.se
X-WR-CALDESC:Händelser för Svenska Boxningsförbundet
REFRESH-INTERVAL;VALUE=DURATION:PT1H
X-Robots-Tag:noindex
X-PUBLISHED-TTL:PT1H
BEGIN:VTIMEZONE
TZID:Europe/Stockholm
BEGIN:DAYLIGHT
TZOFFSETFROM:+0100
TZOFFSETTO:+0200
TZNAME:CEST
DTSTART:20240331T010000
END:DAYLIGHT
BEGIN:STANDARD
TZOFFSETFROM:+0200
TZOFFSETTO:+0100
TZNAME:CET
DTSTART:20241027T010000
END:STANDARD
BEGIN:DAYLIGHT
TZOFFSETFROM:+0100
TZOFFSETTO:+0200
TZNAME:CEST
DTSTART:20250330T010000
END:DAYLIGHT
BEGIN:STANDARD
TZOFFSETFROM:+0200
TZOFFSETTO:+0100
TZNAME:CET
DTSTART:20251026T010000
END:STANDARD
BEGIN:DAYLIGHT
TZOFFSETFROM:+0100
TZOFFSETTO:+0200
TZNAME:CEST
DTSTART:20260329T010000
END:DAYLIGHT
BEGIN:STANDARD
TZOFFSETFROM:+0200
TZOFFSETTO:+0100
TZNAME:CET
DTSTART:20261025T010000
END:STANDARD
END:VTIMEZONE
BEGIN:VEVENT
DTSTART;VALUE=DATE:20250919
DTEND;VALUE=DATE:20250922
DTSTAMP:20260420T002444
CREATED:20250903T152135Z
LAST-MODIFIED:20250921T182039Z
UID:10000105-1758240000-1758499199@swebox.se
SUMMARY:LÄGER - Tjejer och Boxning läger i Stockholm
DESCRIPTION:Inbjudan riktar sig till tjejer i ålder Diplom A – förstaårsseniorer från medlemsföreningar i SBF. Tränare är också välkomna. \nInformation:När: 19/9 – 21/9 2025 \nVar: Stockholm\, Solna \nHotell:  Best Western Plus Park City Solna\, Hotellgatan 11 I Solna centrumTräningslokal: AIK Boxnings lokaler\, Västra vägen 9C \nMål: Hur skapar vi positiva utvecklingsmiljöer inom boxningssporten som tjejer trivs i? Gemenskap mellan tjejer och tränare i boxningen med mål att locka fler till sporten och inspirera fler att börja tävla. \nAnmälningslänk och information: https://educationwebregistration.idrottonline.se/home/index/2106594 \nFredag 16.00 Samling och gemensam promenad till träningslokalen för träning.Därefter följer middag och trevligheter. \nLördagen är varvad med träningar\, föreläsning med Anna Laurell Nash och workshop. \nÄven under söndagen varvas dagen med träningar och annat och beräknas vara slut senast 15.00 (mer information kommer närmare). \nLägret är kostnadsfritt för medlemmar i SBF:s medlemsföreningar\, då ingår boende\, mat\, träningspass och föreläsningar. Klubbarna står själva för resa men de klubbar som har en resväg på mer än 25 mil till Stockholm kan få resekostnaden subventionerad med 70%. Kostnaden får läggas ut av klubben och redovisas till kansliet senast två veckor efter lägrets avslutande. \nKontaktperson: Linda Broman\, linda@broman.tv
URL:https://swebox.se/event/lager-tjejer-och-boxning-lager-i-stockholm/
LOCATION:Stockholm
END:VEVENT
BEGIN:VEVENT
DTSTART;VALUE=DATE:20250920
DTEND;VALUE=DATE:20250921
DTSTAMP:20260420T002444
CREATED:20250613T145241Z
LAST-MODIFIED:20250920T182046Z
UID:10000076-1758326400-1758412799@swebox.se
SUMMARY:DIPLOMTÄVLING - Top Ten-serien VBF
DESCRIPTION:Arrangerande förening: Skoftebyns AIS och Västergötlands Boxningsförbund \nTävlingsplats: Skoftebyns AIS klubblokal\, Lantmannavägen 92\, Trollhättan \nTävlingsledare: Tony Gregner\, 073-918 90 30 el. e-post teamtonsa@gmail.com \nTävlingstillstånd för diplomboxning beviljat
URL:https://swebox.se/event/diplomtavling-top-ten-serien-vbf/
LOCATION:Trollhättan
END:VEVENT
BEGIN:VEVENT
DTSTART;VALUE=DATE:20250920
DTEND;VALUE=DATE:20250922
DTSTAMP:20260420T002444
CREATED:20250704T152106Z
LAST-MODIFIED:20250921T182039Z
UID:10000099-1758326400-1758499199@swebox.se
SUMMARY:UTBILDNING - Tränarutbildning Steg 2
DESCRIPTION:Arrangerande förening: Västsvenska BF och Redbergslids BK \nPlats: Redbergslids BKs lokaler\, Hugo Levins plats\, Nya Ullevi \nLokal kontaktperson: Johan Hedengran\, 076-899 86 06  \nLänk till anmälan till utbildningen – https://educationwebregistration.idrottonline.se/home/index/2096060 \nKontakt på SBF: Patrik Bengtsson\, 08-699 60 03 el. e-post patrik@swebox.se  \nKostnad för utbildning: 1400 kr/person \nUtbildare: Johan Hedengran
URL:https://swebox.se/event/utbildning-tranarutbildning-steg-2-3/
LOCATION:Göteborg
END:VEVENT
END:VCALENDAR