BEGIN:VCALENDAR
VERSION:2.0
PRODID:-//Svenska Boxningsförbundet - ECPv6.15.20//NONSGML v1.0//EN
CALSCALE:GREGORIAN
METHOD:PUBLISH
X-ORIGINAL-URL:https://swebox.se
X-WR-CALDESC:Händelser för Svenska Boxningsförbundet
REFRESH-INTERVAL;VALUE=DURATION:PT1H
X-Robots-Tag:noindex
X-PUBLISHED-TTL:PT1H
BEGIN:VTIMEZONE
TZID:Europe/Stockholm
BEGIN:DAYLIGHT
TZOFFSETFROM:+0100
TZOFFSETTO:+0200
TZNAME:CEST
DTSTART:20240331T010000
END:DAYLIGHT
BEGIN:STANDARD
TZOFFSETFROM:+0200
TZOFFSETTO:+0100
TZNAME:CET
DTSTART:20241027T010000
END:STANDARD
BEGIN:DAYLIGHT
TZOFFSETFROM:+0100
TZOFFSETTO:+0200
TZNAME:CEST
DTSTART:20250330T010000
END:DAYLIGHT
BEGIN:STANDARD
TZOFFSETFROM:+0200
TZOFFSETTO:+0100
TZNAME:CET
DTSTART:20251026T010000
END:STANDARD
BEGIN:DAYLIGHT
TZOFFSETFROM:+0100
TZOFFSETTO:+0200
TZNAME:CEST
DTSTART:20260329T010000
END:DAYLIGHT
BEGIN:STANDARD
TZOFFSETFROM:+0200
TZOFFSETTO:+0100
TZNAME:CET
DTSTART:20261025T010000
END:STANDARD
END:VTIMEZONE
BEGIN:VEVENT
DTSTART;VALUE=DATE:20250913
DTEND;VALUE=DATE:20250915
DTSTAMP:20260419T235716
CREATED:20250618T153654Z
LAST-MODIFIED:20250914T173812Z
UID:10000093-1757721600-1757894399@swebox.se
SUMMARY:MATCH- och DIPLOMTÄVLING - Sydsvenska Öppna Mästerskapen
DESCRIPTION:Arrangerande förening: Sydsvenska BK och Karlskrona BK\nTävlingsplats: Arena Brinova\, Björkholmskajen 3\, Karlskrona\nTävlingsledare: Nader Kiswani\, 0704-90 53 69 el. e-post nader@kiswani.se \nTävlingstillstånd för match- och diplomboxning beviljat
URL:https://swebox.se/event/match-och-diplomtavling-sydsvenska-oppna-masterskapen/
LOCATION:Karlskrona
END:VEVENT
BEGIN:VEVENT
DTSTART;VALUE=DATE:20250913
DTEND;VALUE=DATE:20250915
DTSTAMP:20260419T235716
CREATED:20250704T152052Z
LAST-MODIFIED:20250914T173812Z
UID:10000098-1757721600-1757894399@swebox.se
SUMMARY:UTBILDNING - Tränarutbildning Steg 2
DESCRIPTION:Arrangerande förening: Stockholm-Gotland BF och IF Linnéa \nPlats: IF Linnéas lokaler\, Erstagatan 22 och på lördag förmiddag 9-13 på Scandic Sjöfartshotellet\, Katarinavägen 26 (närmaste T-bana Slussen)Lokal kontaktperson: Patrik Bengtsson\, 08-699 60 03 \nLänk till anmälan till utbildningen – https://educationwebregistration.idrottonline.se/home/index/2061280 \nKontakt på SBF: Patrik Bengtsson\, 08-699 60 03 el. e-post patrik@swebox.se  \nKostnad för utbildning: 1400 kr/person \nUtbildare: Daniel Nash
URL:https://swebox.se/event/utbildning-tranarutbildning-steg-2-2/
LOCATION:Stockholm
END:VEVENT
END:VCALENDAR