BEGIN:VCALENDAR
VERSION:2.0
PRODID:-//Svenska Boxningsförbundet - ECPv6.15.20//NONSGML v1.0//EN
CALSCALE:GREGORIAN
METHOD:PUBLISH
X-ORIGINAL-URL:https://swebox.se
X-WR-CALDESC:Händelser för Svenska Boxningsförbundet
REFRESH-INTERVAL;VALUE=DURATION:PT1H
X-Robots-Tag:noindex
X-PUBLISHED-TTL:PT1H
BEGIN:VTIMEZONE
TZID:Europe/Stockholm
BEGIN:DAYLIGHT
TZOFFSETFROM:+0100
TZOFFSETTO:+0200
TZNAME:CEST
DTSTART:20240331T010000
END:DAYLIGHT
BEGIN:STANDARD
TZOFFSETFROM:+0200
TZOFFSETTO:+0100
TZNAME:CET
DTSTART:20241027T010000
END:STANDARD
BEGIN:DAYLIGHT
TZOFFSETFROM:+0100
TZOFFSETTO:+0200
TZNAME:CEST
DTSTART:20250330T010000
END:DAYLIGHT
BEGIN:STANDARD
TZOFFSETFROM:+0200
TZOFFSETTO:+0100
TZNAME:CET
DTSTART:20251026T010000
END:STANDARD
BEGIN:DAYLIGHT
TZOFFSETFROM:+0100
TZOFFSETTO:+0200
TZNAME:CEST
DTSTART:20260329T010000
END:DAYLIGHT
BEGIN:STANDARD
TZOFFSETFROM:+0200
TZOFFSETTO:+0100
TZNAME:CET
DTSTART:20261025T010000
END:STANDARD
END:VTIMEZONE
BEGIN:VEVENT
DTSTART;VALUE=DATE:20250906
DTEND;VALUE=DATE:20250907
DTSTAMP:20260419T235225
CREATED:20250613T145241Z
LAST-MODIFIED:20250906T155056Z
UID:10000075-1757116800-1757203199@swebox.se
SUMMARY:MATCH- och DIPLOMTÄVLING - RBK Gala - INSTÄLLD
DESCRIPTION:Arrangerande förening: Redbergslids BK \nTävlingsplats: Redbergslids lokaler\, Ullevi\, Hugo Levins plats\, Göteborg\nTävlingsledare: Kabir Mehrabi\, 070-401 75 22\nTävlingstillstånd för match- och diplomboxning beviljat
URL:https://swebox.se/event/match-och-diplomtavling-rbk-gala/
LOCATION:Göteborg
END:VEVENT
BEGIN:VEVENT
DTSTART;VALUE=DATE:20250906
DTEND;VALUE=DATE:20250907
DTSTAMP:20260419T235225
CREATED:20250627T135221Z
LAST-MODIFIED:20250906T155056Z
UID:10000094-1757116800-1757203199@swebox.se
SUMMARY:DIPLOMTÄVLING - Rumble in Höganäs
DESCRIPTION:Arrangerande förening: Höganäs Boxningsklubb\nTävlingsplats: Kvickbadet Höganäs\, utomhus\nTävlingsledare: Sami Dashaj\, 073-777 71 59 el. e-post hoganasboxningsklubb@hotmail.com\nTävlingstillstånd för diplomboxning beviljat
URL:https://swebox.se/event/diplomtavling-rumble-in-hoganas/
LOCATION:Höganäs
END:VEVENT
BEGIN:VEVENT
DTSTART;VALUE=DATE:20250906
DTEND;VALUE=DATE:20250907
DTSTAMP:20260419T235225
CREATED:20250627T135221Z
LAST-MODIFIED:20250906T155056Z
UID:10000095-1757116800-1757203199@swebox.se
SUMMARY:MATCH- och DIPLOMTÄVLING - Haninge Box Open
DESCRIPTION:Arrangerande förening: Haninge Boxningsklubb\nTävlingsplats: Haninge BK:s klubblokal\, Brandbergens centrum\, Jungfruns Gata 416\, Brandbergen\nTävlingsledare: Vido Ratkovic\, 070-788 01 01 el. e-post info@haningebk.com \nTävlingstillstånd för match- och diplomboxning beviljat
URL:https://swebox.se/event/match-och-diplomtavling-haninge-box-open/
LOCATION:Haninge
END:VEVENT
BEGIN:VEVENT
DTSTART;VALUE=DATE:20250906
DTEND;VALUE=DATE:20250908
DTSTAMP:20260419T235225
CREATED:20250704T152051Z
LAST-MODIFIED:20250907T160633Z
UID:10000097-1757116800-1757289599@swebox.se
SUMMARY:UTBILDNING - Tränarutbildning Steg 1
DESCRIPTION:Arrangerande förening: Värmland-Närke BF och BK Kelly \nPlats: BK Kellys lokaler\, Södra Strandgatan 3\, Örebro \nLokal kontaktperson: Ulf Olsson\, 070-526 05 90 \nLänk till anmälan till utbildningen – https://educationwebregistration.idrottonline.se/home/index/2096023 \nKontakt på SBF: Patrik Bengtsson\, 08-699 60 03 el. e-post patrik@swebox.se  \nKostnad för utbildning: 1200 kr/person \nUtbildare: Daniel Nash
URL:https://swebox.se/event/utbildning-tranarutbildning-steg-1-6/
LOCATION:Örebro
END:VEVENT
END:VCALENDAR