BEGIN:VCALENDAR
VERSION:2.0
PRODID:-//Svenska Boxningsförbundet - ECPv6.15.20//NONSGML v1.0//EN
CALSCALE:GREGORIAN
METHOD:PUBLISH
X-WR-CALNAME:Svenska Boxningsförbundet
X-ORIGINAL-URL:https://swebox.se
X-WR-CALDESC:Händelser för Svenska Boxningsförbundet
REFRESH-INTERVAL;VALUE=DURATION:PT1H
X-Robots-Tag:noindex
X-PUBLISHED-TTL:PT1H
BEGIN:VTIMEZONE
TZID:Europe/Stockholm
BEGIN:DAYLIGHT
TZOFFSETFROM:+0100
TZOFFSETTO:+0200
TZNAME:CEST
DTSTART:20240331T010000
END:DAYLIGHT
BEGIN:STANDARD
TZOFFSETFROM:+0200
TZOFFSETTO:+0100
TZNAME:CET
DTSTART:20241027T010000
END:STANDARD
BEGIN:DAYLIGHT
TZOFFSETFROM:+0100
TZOFFSETTO:+0200
TZNAME:CEST
DTSTART:20250330T010000
END:DAYLIGHT
BEGIN:STANDARD
TZOFFSETFROM:+0200
TZOFFSETTO:+0100
TZNAME:CET
DTSTART:20251026T010000
END:STANDARD
BEGIN:DAYLIGHT
TZOFFSETFROM:+0100
TZOFFSETTO:+0200
TZNAME:CEST
DTSTART:20260329T010000
END:DAYLIGHT
BEGIN:STANDARD
TZOFFSETFROM:+0200
TZOFFSETTO:+0100
TZNAME:CET
DTSTART:20261025T010000
END:STANDARD
END:VTIMEZONE
BEGIN:VEVENT
DTSTART;VALUE=DATE:20250831
DTEND;VALUE=DATE:20250901
DTSTAMP:20260419T222415
CREATED:20250613T145241Z
LAST-MODIFIED:20250831T150652Z
UID:10000073-1756598400-1756684799@swebox.se
SUMMARY:DIPLOMTÄVLING - RBK Gala
DESCRIPTION:Arrangerande förening: Redbergslids BK \nTävlingsplats: Redbergslids lokaler\, Ullevi\, Hugo Levins plats\, Göteborg\nTävlingsledare: Johan Hedengran\, 076-899 86 06 el. e-post johan.hedengran@gmail.com \nTävlingstillstånd för match- och diplomboxning beviljat
URL:https://swebox.se/event/diplomtavling-rbk-gala/
LOCATION:Göteborg
END:VEVENT
BEGIN:VEVENT
DTSTART;VALUE=DATE:20250831
DTEND;VALUE=DATE:20250901
DTSTAMP:20260419T222415
CREATED:20250814T232158Z
LAST-MODIFIED:20250831T150652Z
UID:10000102-1756598400-1756684799@swebox.se
SUMMARY:DIPLOMTÄVLING - Peking Boxnings League
DESCRIPTION:Arrangerande förening: Norrköping BoxningsTeam IF\nTävlingsplats: Klockartorpet Centrum\, Wilhelm Wibergs Gata 92\, Norrköping\nTävlingsledare: Jonas Hjelm\, 073-361 33 14 el. e-post camiloone@gmail.com\nTävlingstillstånd för diplomboxning beviljat
URL:https://swebox.se/event/diplomtavling-peking-boxnings-league/
LOCATION:Norrköping
END:VEVENT
END:VCALENDAR