BEGIN:VCALENDAR
VERSION:2.0
PRODID:-//Svenska Boxningsförbundet - ECPv6.15.20//NONSGML v1.0//EN
CALSCALE:GREGORIAN
METHOD:PUBLISH
X-ORIGINAL-URL:https://swebox.se
X-WR-CALDESC:Händelser för Svenska Boxningsförbundet
REFRESH-INTERVAL;VALUE=DURATION:PT1H
X-Robots-Tag:noindex
X-PUBLISHED-TTL:PT1H
BEGIN:VTIMEZONE
TZID:Europe/Stockholm
BEGIN:DAYLIGHT
TZOFFSETFROM:+0100
TZOFFSETTO:+0200
TZNAME:CEST
DTSTART:20240331T010000
END:DAYLIGHT
BEGIN:STANDARD
TZOFFSETFROM:+0200
TZOFFSETTO:+0100
TZNAME:CET
DTSTART:20241027T010000
END:STANDARD
BEGIN:DAYLIGHT
TZOFFSETFROM:+0100
TZOFFSETTO:+0200
TZNAME:CEST
DTSTART:20250330T010000
END:DAYLIGHT
BEGIN:STANDARD
TZOFFSETFROM:+0200
TZOFFSETTO:+0100
TZNAME:CET
DTSTART:20251026T010000
END:STANDARD
BEGIN:DAYLIGHT
TZOFFSETFROM:+0100
TZOFFSETTO:+0200
TZNAME:CEST
DTSTART:20260329T010000
END:DAYLIGHT
BEGIN:STANDARD
TZOFFSETFROM:+0200
TZOFFSETTO:+0100
TZNAME:CET
DTSTART:20261025T010000
END:STANDARD
END:VTIMEZONE
BEGIN:VEVENT
DTSTART;VALUE=DATE:20250614
DTEND;VALUE=DATE:20250615
DTSTAMP:20260419T191712
CREATED:20250515T210711Z
LAST-MODIFIED:20250614T150740Z
UID:10000068-1749859200-1749945599@swebox.se
SUMMARY:MATCH- och DIPLOMTÄVLING - Bajen Open House/Fit4Fight
DESCRIPTION:Arrangerande förening: Hammarby IF Boxning\nTävlingsplats: Hammarby IF Boxnings lokaler\, Skarpnäcks gårdsväg 8E Hus 10\, Skarpnäck\nTävlingsledare: Stigge Flemström\, 070-230 35 89 el. e-post stigge.flemstrom@telia.com\nTävlingstillstånd för match- och diplomboxning beviljat
URL:https://swebox.se/event/match-och-diplomtavling-bajen-open-house-fit4fight/
LOCATION:Stockholm
END:VEVENT
BEGIN:VEVENT
DTSTART;VALUE=DATE:20250614
DTEND;VALUE=DATE:20250615
DTSTAMP:20260419T191712
CREATED:20250521T222155Z
LAST-MODIFIED:20250614T150740Z
UID:10000070-1749859200-1749945599@swebox.se
SUMMARY:DIPLOMTÄVLING - MBK Diplomtävling
DESCRIPTION:Arrangerande förening: Malmö Boxningsklubb\nTävlingsplats: Malmö Boxningsklubbs lokal\, Rosengårds sporthall\, Von Rosens väg 42\, Malmö\nTävlingsledare: Nader Kiswani\, malmoboxningsklubb@gmail.com el. 070-490 53 69\nTävlingstillstånd för diplomboxning beviljat
URL:https://swebox.se/event/diplomtavling-mbk-diplomtavling/
LOCATION:Malmö
END:VEVENT
BEGIN:VEVENT
DTSTART;VALUE=DATE:20250614
DTEND;VALUE=DATE:20250615
DTSTAMP:20260419T191712
CREATED:20250604T132317Z
LAST-MODIFIED:20250614T150740Z
UID:10000071-1749859200-1749945599@swebox.se
SUMMARY:UTBILDNING - Ringdomarutbildning
DESCRIPTION:Plats: Hisingens Boxningsklubbs lokal\, Väderlekstorget 5\, Göteborg \nKostnad: 700 kronor per person  \nInformation och anmälan: Förkunskaper och erfarenhet som poängdomare är ett krav. Anmälan sker via följande länk:  https://educationwebregistration.idrottonline.se/home/index/2082297 \nKontakta Jerker Krantz\, som också är kursledare\, för information på 072 – 312 98 90
URL:https://swebox.se/event/utbildning-ringdomarutbildning/
LOCATION:Göteborg
END:VEVENT
END:VCALENDAR