BEGIN:VCALENDAR
VERSION:2.0
PRODID:-//Svenska Boxningsförbundet - ECPv6.15.20//NONSGML v1.0//EN
CALSCALE:GREGORIAN
METHOD:PUBLISH
X-WR-CALNAME:Svenska Boxningsförbundet
X-ORIGINAL-URL:https://swebox.se
X-WR-CALDESC:Händelser för Svenska Boxningsförbundet
REFRESH-INTERVAL;VALUE=DURATION:PT1H
X-Robots-Tag:noindex
X-PUBLISHED-TTL:PT1H
BEGIN:VTIMEZONE
TZID:Europe/Stockholm
BEGIN:DAYLIGHT
TZOFFSETFROM:+0100
TZOFFSETTO:+0200
TZNAME:CEST
DTSTART:20240331T010000
END:DAYLIGHT
BEGIN:STANDARD
TZOFFSETFROM:+0200
TZOFFSETTO:+0100
TZNAME:CET
DTSTART:20241027T010000
END:STANDARD
BEGIN:DAYLIGHT
TZOFFSETFROM:+0100
TZOFFSETTO:+0200
TZNAME:CEST
DTSTART:20250330T010000
END:DAYLIGHT
BEGIN:STANDARD
TZOFFSETFROM:+0200
TZOFFSETTO:+0100
TZNAME:CET
DTSTART:20251026T010000
END:STANDARD
BEGIN:DAYLIGHT
TZOFFSETFROM:+0100
TZOFFSETTO:+0200
TZNAME:CEST
DTSTART:20260329T010000
END:DAYLIGHT
BEGIN:STANDARD
TZOFFSETFROM:+0200
TZOFFSETTO:+0100
TZNAME:CET
DTSTART:20261025T010000
END:STANDARD
END:VTIMEZONE
BEGIN:VEVENT
DTSTART;VALUE=DATE:20250607
DTEND;VALUE=DATE:20250609
DTSTAMP:20260419T190017
CREATED:20250515T210711Z
LAST-MODIFIED:20250608T140651Z
UID:10000067-1749254400-1749427199@swebox.se
SUMMARY:DIPLOMTÄVLING - Bajen Diplom Box Open
DESCRIPTION:Arrangerande förening: Hammarby IF Boxning\nTävlingsplats: Hammarby IF Boxnings lokaler\, Skarpnäcks gårdsväg 8E hus 10\, Skarpnäck\nTävlingsledare: Nome Andersson\, 0733-844 638 el. e-post nome.norman@gmail.com \nTävlingstillstånd för diplomboxning beviljat
URL:https://swebox.se/event/diplomtavling-bajen-diplom-box-open/
LOCATION:Stockholm
END:VEVENT
END:VCALENDAR